{"text_format":"1","workbook":"xlsx","n_sheets":10,"sheets":["FA","Engagements","Niv FA","Niv PL","Cat. d'âge","Records_FA_F","Records FA_H","Records PL_F","Records PL_H","Aide"],"not_rendered":{"charts":0,"images":6,"macros":1,"external_links":0,"defined_names":16,"comments":0,"pivot_tables":0},"unopened":[],"bounds":{"document_bytes":16777216,"sheet_cells":100000,"rows_first":2000,"rows_last":500,"rows_between":2000,"halvings":0,"cell_chars":16384,"cell_head_chars":4096},"cells_cut":0,"cells_raw":0,"read":"whole","date_system":"1900"}

{"sheet":"FA","index":0,"n_rows":30,"n_cols":35,"rows_kept":30,"cut":false,"hidden":false,"merged":[[30,21,30,24],[29,6,29,7],[29,8,29,11],[29,12,29,15],[29,16,29,19],[30,6,30,7],[30,8,30,11],[30,12,30,15],[30,16,30,19],[4,1,4,3],[0,0,0,2],[1,0,1,2],[6,6,7,6],[6,5,7,5],[2,0,2,2],[6,1,7,1],[6,22,7,22],[6,17,6,19],[6,24,7,24],[6,21,7,21],[6,0,7,0],[6,20,7,20],[6,8,7,8],[6,4,7,4],[6,10,7,10],[6,3,7,3],[6,2,7,2],[6,7,7,7],[6,31,7,31],[6,32,7,32],[6,33,7,33],[6,34,7,34],[0,5,1,13],[2,5,2,13],[4,14,4,15],[3,5,3,13],[6,30,7,30],[6,28,7,28],[6,29,7,29],[4,5,4,13],[6,26,7,26],[6,25,7,25],[6,23,7,23],[6,9,7,9]]}
[null,null,null,null,null,"Feuille de Match 2025",null,null,null,null,null,null,null,null,null,null,null,null,null,null,null,null,null,null,null,false]
[]
[null,null,null,null,"Ragond1","Lieu"]
[null,null,null,null,null,"2025-11-13"]
["Ligue","PROVENCE ALPES COTE D AZUR",null,null,"2025-11-13","A utiliser à partir du 13 Novembre 2025",null,null,null,null,null,null,null,null,"Compétition",null,"Open de vvv - Ne pas fusionner les cellules"]
["2025-11-13"]
["Licen.","CLUB","S      F-M","Date nais.","Cat.    d'âge     A","NOM","Prénom","Poids   de      corps","Cat.    Poids","Indice","Lot.",null,"SQUAT",null,null,"DC",null,"S de T",null,null,"TOTAL  annoncé","TOTAL  réalisé","Clas. ","Points Réalisés","Niveau Cat. Âge     A","Niveau Open","choix discipline ",null,"Cat.    d'âge A+1","Niveau               Cat. Âge A+1","hauteur SQUAT","Position Rack","hauteur DC","hauteur sécurité","Hauteur de cales "]
[null,null,null,null,null,null,null,null,null,null,null,1,2,3,1,2,3,1,2,3]
[null,null,null,null,{"$f":"IF(EXACT(C9,\"M\"),calcul_age(AA9,D9),IF(EXACT(C9,\"F\"),calcul_age(AA9,D9),\"\"))","v":""},null,null,null,{"$f":"IF(EXACT(C9,\"M\"),categorie_poids_homme(AA9,E9,H9),IF(EXACT(C9,\"F\"),categorie_poids_femme(AA9,E9,H9),\"\"))","v":""},{"$f":"IF(H9=\"\",\"\",ROUNDUP(IF(EXACT(C9,\"M\"),IF(AA9=\"FA\",indice_homme_FA(H9),indice_homme_PL(H9)),IF(EXACT(C9,\"F\"),IF(AA9=\"PL\",indice_femme_PL(H9),indice_femme_FA(H9)),0)),6))","v":""},null,null,null,null,null,null,null,null,null,null,{"$f":"IF(AND(L9=\"\",M9=\"\",N9=\"\",O9=\"\",P9=\"\",Q9=\"\",R9=\"\",S9=\"\",T9=\"\"),\"\",total_annonce(L9,M9,N9,O9,P9,Q9,R9,S9,T9))","v":""},{"$f":"IF(AND(L9=\"\",M9=\"\",N9=\"\",O9=\"\",P9=\"\",Q9=\"\",R9=\"\",S9=\"\",T9=\"\"),\"\",total_réussi(L9,M9,N9,O9,P9,Q9,R9,S9,T9))","v":""},null,{"$f":"IF(AA9=0,\"\",IF(AA9=\"FA\",IF(H9=\"\",\"\",ROUNDUP(IF(EXACT(C9,\"M\"),indice_homme_FA(H9)*total_réussi(L9,M9,N9,O9,P9,Q9,R9,S9,T9),IF(EXACT(C9,\"F\"),indice_femme_FA(H9)*total_réussi(L9,M9,N9,O9,P9,Q9,R9,S9,T9),0)),6)),IF(H9=\"\",\"\",ROUNDUP(IF(EXACT(C9,\"M\"),indice_homme_PL(H9)*total_réussi(L9,M9,N9,O9,P9,Q9,R9,S9,T9),IF(EXACT(C9,\"F\"),indice_femme_PL(H9)*total_réussi(L9,M9,N9,O9,P9,Q9,R9,S9,T9),0)),6))))","v":""},{"$f":"IF(U9=\"\",\"\",IF(EXACT(C9,\"M\"),niv_homme(AA9,E9,H9,V9),IF(EXACT(C9,\"F\"),niv_femme(AA9,E9,H9,V9),\" \")))","v":""},{"$f":"IF(U9=\"\",\"\",IF(EXACT(C9,\"M\"),niv_open_homme(AA9,E9,H9,V9),IF(EXACT(C9,\"F\"),niv_open_femme(AA9,E9,H9,V9),\" \")))","v":""},"FA",null,{"$f":"IF(EXACT(C9,\"M\"),calcul_age_A1(AA9,D9),IF(EXACT(C9,\"F\"),calcul_age_A1(AA9,D9),\"\"))","v":""},{"$f":"IF(V9=\"\",\"\",IF(EXACT(C9,\"M\"),niv_homme(AA9,AC9,H9,V9),IF(EXACT(C9,\"F\"),niv_femme(AA9,AC9,H9,V9))))","v":""}]
[null,null,null,null,{"$f":"IF(EXACT(C10,\"M\"),calcul_age(AA10,D10),IF(EXACT(C10,\"F\"),calcul_age(AA10,D10),\"\"))","v":""},null,null,null,{"$f":"IF(EXACT(C10,\"M\"),categorie_poids_homme(AA10,E10,H10),IF(EXACT(C10,\"F\"),categorie_poids_femme(AA10,E10,H10),\"\"))","v":""},{"$f":"IF(H10=\"\",\"\",ROUNDUP(IF(EXACT(C10,\"M\"),IF(AA10=\"FA\",indice_homme_FA(H10),indice_homme_PL(H10)),IF(EXACT(C10,\"F\"),IF(AA10=\"PL\",indice_femme_PL(H10),indice_femme_FA(H10)),0)),6))","v":""},null,null,null,null,null,null,null,null,null,null,{"$f":"IF(AND(L10=\"\",M10=\"\",N10=\"\",O10=\"\",P10=\"\",Q10=\"\",R10=\"\",S10=\"\",T10=\"\"),\"\",total_annonce(L10,M10,N10,O10,P10,Q10,R10,S10,T10))","v":""},{"$f":"IF(AND(L10=\"\",M10=\"\",N10=\"\",O10=\"\",P10=\"\",Q10=\"\",R10=\"\",S10=\"\",T10=\"\"),\"\",total_réussi(L10,M10,N10,O10,P10,Q10,R10,S10,T10))","v":""},null,{"$f":"IF(AA10=0,\"\",IF(AA10=\"FA\",IF(H10=\"\",\"\",ROUNDUP(IF(EXACT(C10,\"M\"),indice_homme_FA(H10)*total_réussi(L10,M10,N10,O10,P10,Q10,R10,S10,T10),IF(EXACT(C10,\"F\"),indice_femme_FA(H10)*total_réussi(L10,M10,N10,O10,P10,Q10,R10,S10,T10),0)),6)),IF(H10=\"\",\"\",ROUNDUP(IF(EXACT(C10,\"M\"),indice_homme_PL(H10)*total_réussi(L10,M10,N10,O10,P10,Q10,R10,S10,T10),IF(EXACT(C10,\"F\"),indice_femme_PL(H10)*total_réussi(L10,M10,N10,O10,P10,Q10,R10,S10,T10),0)),6))))","v":""},{"$f":"IF(U10=\"\",\"\",IF(EXACT(C10,\"M\"),niv_homme(AA10,E10,H10,V10),IF(EXACT(C10,\"F\"),niv_femme(AA10,E10,H10,V10),\" \")))","v":""},{"$f":"IF(U10=\"\",\"\",IF(EXACT(C10,\"M\"),niv_open_homme(AA10,E10,H10,V10),IF(EXACT(C10,\"F\"),niv_open_femme(AA10,E10,H10,V10),\" \")))","v":""},"FA",null,{"$f":"IF(EXACT(C10,\"M\"),calcul_age_A1(AA10,D10),IF(EXACT(C10,\"F\"),calcul_age_A1(AA10,D10),\"\"))","v":""},{"$f":"IF(V10=\"\",\"\",IF(EXACT(C10,\"M\"),niv_homme(AA10,AC10,H10,V10),IF(EXACT(C10,\"F\"),niv_femme(AA10,AC10,H10,V10))))","v":""}]
[null,null,null,null,{"$f":"IF(EXACT(C11,\"M\"),calcul_age(AA11,D11),IF(EXACT(C11,\"F\"),calcul_age(AA11,D11),\"\"))","v":""},null,null,null,{"$f":"IF(EXACT(C11,\"M\"),categorie_poids_homme(AA11,E11,H11),IF(EXACT(C11,\"F\"),categorie_poids_femme(AA11,E11,H11),\"\"))","v":""},{"$f":"IF(H11=\"\",\"\",ROUNDUP(IF(EXACT(C11,\"M\"),IF(AA11=\"FA\",indice_homme_FA(H11),indice_homme_PL(H11)),IF(EXACT(C11,\"F\"),IF(AA11=\"PL\",indice_femme_PL(H11),indice_femme_FA(H11)),0)),6))","v":""},null,null,null,null,null,null,null,null,null,null,{"$f":"IF(AND(L11=\"\",M11=\"\",N11=\"\",O11=\"\",P11=\"\",Q11=\"\",R11=\"\",S11=\"\",T11=\"\"),\"\",total_annonce(L11,M11,N11,O11,P11,Q11,R11,S11,T11))","v":""},{"$f":"IF(AND(L11=\"\",M11=\"\",N11=\"\",O11=\"\",P11=\"\",Q11=\"\",R11=\"\",S11=\"\",T11=\"\"),\"\",total_réussi(L11,M11,N11,O11,P11,Q11,R11,S11,T11))","v":""},null,{"$f":"IF(AA11=0,\"\",IF(AA11=\"FA\",IF(H11=\"\",\"\",ROUNDUP(IF(EXACT(C11,\"M\"),indice_homme_FA(H11)*total_réussi(L11,M11,N11,O11,P11,Q11,R11,S11,T11),IF(EXACT(C11,\"F\"),indice_femme_FA(H11)*total_réussi(L11,M11,N11,O11,P11,Q11,R11,S11,T11),0)),6)),IF(H11=\"\",\"\",ROUNDUP(IF(EXACT(C11,\"M\"),indice_homme_PL(H11)*total_réussi(L11,M11,N11,O11,P11,Q11,R11,S11,T11),IF(EXACT(C11,\"F\"),indice_femme_PL(H11)*total_réussi(L11,M11,N11,O11,P11,Q11,R11,S11,T11),0)),6))))","v":""},{"$f":"IF(U11=\"\",\"\",IF(EXACT(C11,\"M\"),niv_homme(AA11,E11,H11,V11),IF(EXACT(C11,\"F\"),niv_femme(AA11,E11,H11,V11),\" \")))","v":""},{"$f":"IF(U11=\"\",\"\",IF(EXACT(C11,\"M\"),niv_open_homme(AA11,E11,H11,V11),IF(EXACT(C11,\"F\"),niv_open_femme(AA11,E11,H11,V11),\" \")))","v":""},"FA",null,{"$f":"IF(EXACT(C11,\"M\"),calcul_age_A1(AA11,D11),IF(EXACT(C11,\"F\"),calcul_age_A1(AA11,D11),\"\"))","v":""},{"$f":"IF(V11=\"\",\"\",IF(EXACT(C11,\"M\"),niv_homme(AA11,AC11,H11,V11),IF(EXACT(C11,\"F\"),niv_femme(AA11,AC11,H11,V11))))","v":""}]
[null,null,null,null,{"$f":"IF(EXACT(C12,\"M\"),calcul_age(AA12,D12),IF(EXACT(C12,\"F\"),calcul_age(AA12,D12),\"\"))","v":""},null,null,null,{"$f":"IF(EXACT(C12,\"M\"),categorie_poids_homme(AA12,E12,H12),IF(EXACT(C12,\"F\"),categorie_poids_femme(AA12,E12,H12),\"\"))","v":""},{"$f":"IF(H12=\"\",\"\",ROUNDUP(IF(EXACT(C12,\"M\"),IF(AA12=\"FA\",indice_homme_FA(H12),indice_homme_PL(H12)),IF(EXACT(C12,\"F\"),IF(AA12=\"PL\",indice_femme_PL(H12),indice_femme_FA(H12)),0)),6))","v":""},null,null,null,null,null,null,null,null,null,null,{"$f":"IF(AND(L12=\"\",M12=\"\",N12=\"\",O12=\"\",P12=\"\",Q12=\"\",R12=\"\",S12=\"\",T12=\"\"),\"\",total_annonce(L12,M12,N12,O12,P12,Q12,R12,S12,T12))","v":""},{"$f":"IF(AND(L12=\"\",M12=\"\",N12=\"\",O12=\"\",P12=\"\",Q12=\"\",R12=\"\",S12=\"\",T12=\"\"),\"\",total_réussi(L12,M12,N12,O12,P12,Q12,R12,S12,T12))","v":""},null,{"$f":"IF(AA12=0,\"\",IF(AA12=\"FA\",IF(H12=\"\",\"\",ROUNDUP(IF(EXACT(C12,\"M\"),indice_homme_FA(H12)*total_réussi(L12,M12,N12,O12,P12,Q12,R12,S12,T12),IF(EXACT(C12,\"F\"),indice_femme_FA(H12)*total_réussi(L12,M12,N12,O12,P12,Q12,R12,S12,T12),0)),6)),IF(H12=\"\",\"\",ROUNDUP(IF(EXACT(C12,\"M\"),indice_homme_PL(H12)*total_réussi(L12,M12,N12,O12,P12,Q12,R12,S12,T12),IF(EXACT(C12,\"F\"),indice_femme_PL(H12)*total_réussi(L12,M12,N12,O12,P12,Q12,R12,S12,T12),0)),6))))","v":""},{"$f":"IF(U12=\"\",\"\",IF(EXACT(C12,\"M\"),niv_homme(AA12,E12,H12,V12),IF(EXACT(C12,\"F\"),niv_femme(AA12,E12,H12,V12),\" \")))","v":""},{"$f":"IF(U12=\"\",\"\",IF(EXACT(C12,\"M\"),niv_open_homme(AA12,E12,H12,V12),IF(EXACT(C12,\"F\"),niv_open_femme(AA12,E12,H12,V12),\" \")))","v":""},"FA",null,{"$f":"IF(EXACT(C12,\"M\"),calcul_age_A1(AA12,D12),IF(EXACT(C12,\"F\"),calcul_age_A1(AA12,D12),\"\"))","v":""},{"$f":"IF(V12=\"\",\"\",IF(EXACT(C12,\"M\"),niv_homme(AA12,AC12,H12,V12),IF(EXACT(C12,\"F\"),niv_femme(AA12,AC12,H12,V12))))","v":""}]
[null,null,null,null,{"$f":"IF(EXACT(C13,\"M\"),calcul_age(AA13,D13),IF(EXACT(C13,\"F\"),calcul_age(AA13,D13),\"\"))","v":""},null,null,null,{"$f":"IF(EXACT(C13,\"M\"),categorie_poids_homme(AA13,E13,H13),IF(EXACT(C13,\"F\"),categorie_poids_femme(AA13,E13,H13),\"\"))","v":""},{"$f":"IF(H13=\"\",\"\",ROUNDUP(IF(EXACT(C13,\"M\"),IF(AA13=\"FA\",indice_homme_FA(H13),indice_homme_PL(H13)),IF(EXACT(C13,\"F\"),IF(AA13=\"PL\",indice_femme_PL(H13),indice_femme_FA(H13)),0)),6))","v":""},null,null,null,null,null,null,null,null,null,null,{"$f":"IF(AND(L13=\"\",M13=\"\",N13=\"\",O13=\"\",P13=\"\",Q13=\"\",R13=\"\",S13=\"\",T13=\"\"),\"\",total_annonce(L13,M13,N13,O13,P13,Q13,R13,S13,T13))","v":""},{"$f":"IF(AND(L13=\"\",M13=\"\",N13=\"\",O13=\"\",P13=\"\",Q13=\"\",R13=\"\",S13=\"\",T13=\"\"),\"\",total_réussi(L13,M13,N13,O13,P13,Q13,R13,S13,T13))","v":""},null,{"$f":"IF(AA13=0,\"\",IF(AA13=\"FA\",IF(H13=\"\",\"\",ROUNDUP(IF(EXACT(C13,\"M\"),indice_homme_FA(H13)*total_réussi(L13,M13,N13,O13,P13,Q13,R13,S13,T13),IF(EXACT(C13,\"F\"),indice_femme_FA(H13)*total_réussi(L13,M13,N13,O13,P13,Q13,R13,S13,T13),0)),6)),IF(H13=\"\",\"\",ROUNDUP(IF(EXACT(C13,\"M\"),indice_homme_PL(H13)*total_réussi(L13,M13,N13,O13,P13,Q13,R13,S13,T13),IF(EXACT(C13,\"F\"),indice_femme_PL(H13)*total_réussi(L13,M13,N13,O13,P13,Q13,R13,S13,T13),0)),6))))","v":""},{"$f":"IF(U13=\"\",\"\",IF(EXACT(C13,\"M\"),niv_homme(AA13,E13,H13,V13),IF(EXACT(C13,\"F\"),niv_femme(AA13,E13,H13,V13),\" \")))","v":""},{"$f":"IF(U13=\"\",\"\",IF(EXACT(C13,\"M\"),niv_open_homme(AA13,E13,H13,V13),IF(EXACT(C13,\"F\"),niv_open_femme(AA13,E13,H13,V13),\" \")))","v":""},"FA",null,{"$f":"IF(EXACT(C13,\"M\"),calcul_age_A1(AA13,D13),IF(EXACT(C13,\"F\"),calcul_age_A1(AA13,D13),\"\"))","v":""},{"$f":"IF(V13=\"\",\"\",IF(EXACT(C13,\"M\"),niv_homme(AA13,AC13,H13,V13),IF(EXACT(C13,\"F\"),niv_femme(AA13,AC13,H13,V13))))","v":""}]
[null,null,null,null,{"$f":"IF(EXACT(C14,\"M\"),calcul_age(AA14,D14),IF(EXACT(C14,\"F\"),calcul_age(AA14,D14),\"\"))","v":""},null,null,null,{"$f":"IF(EXACT(C14,\"M\"),categorie_poids_homme(AA14,E14,H14),IF(EXACT(C14,\"F\"),categorie_poids_femme(AA14,E14,H14),\"\"))","v":""},{"$f":"IF(H14=\"\",\"\",ROUNDUP(IF(EXACT(C14,\"M\"),IF(AA14=\"FA\",indice_homme_FA(H14),indice_homme_PL(H14)),IF(EXACT(C14,\"F\"),IF(AA14=\"PL\",indice_femme_PL(H14),indice_femme_FA(H14)),0)),6))","v":""},null,null,null,null,null,null,null,null,null,null,{"$f":"IF(AND(L14=\"\",M14=\"\",N14=\"\",O14=\"\",P14=\"\",Q14=\"\",R14=\"\",S14=\"\",T14=\"\"),\"\",total_annonce(L14,M14,N14,O14,P14,Q14,R14,S14,T14))","v":""},{"$f":"IF(AND(L14=\"\",M14=\"\",N14=\"\",O14=\"\",P14=\"\",Q14=\"\",R14=\"\",S14=\"\",T14=\"\"),\"\",total_réussi(L14,M14,N14,O14,P14,Q14,R14,S14,T14))","v":""},null,{"$f":"IF(AA14=0,\"\",IF(AA14=\"FA\",IF(H14=\"\",\"\",ROUNDUP(IF(EXACT(C14,\"M\"),indice_homme_FA(H14)*total_réussi(L14,M14,N14,O14,P14,Q14,R14,S14,T14),IF(EXACT(C14,\"F\"),indice_femme_FA(H14)*total_réussi(L14,M14,N14,O14,P14,Q14,R14,S14,T14),0)),6)),IF(H14=\"\",\"\",ROUNDUP(IF(EXACT(C14,\"M\"),indice_homme_PL(H14)*total_réussi(L14,M14,N14,O14,P14,Q14,R14,S14,T14),IF(EXACT(C14,\"F\"),indice_femme_PL(H14)*total_réussi(L14,M14,N14,O14,P14,Q14,R14,S14,T14),0)),6))))","v":""},{"$f":"IF(U14=\"\",\"\",IF(EXACT(C14,\"M\"),niv_homme(AA14,E14,H14,V14),IF(EXACT(C14,\"F\"),niv_femme(AA14,E14,H14,V14),\" \")))","v":""},{"$f":"IF(U14=\"\",\"\",IF(EXACT(C14,\"M\"),niv_open_homme(AA14,E14,H14,V14),IF(EXACT(C14,\"F\"),niv_open_femme(AA14,E14,H14,V14),\" \")))","v":""},"FA",null,{"$f":"IF(EXACT(C14,\"M\"),calcul_age_A1(AA14,D14),IF(EXACT(C14,\"F\"),calcul_age_A1(AA14,D14),\"\"))","v":""},{"$f":"IF(V14=\"\",\"\",IF(EXACT(C14,\"M\"),niv_homme(AA14,AC14,H14,V14),IF(EXACT(C14,\"F\"),niv_femme(AA14,AC14,H14,V14))))","v":""}]
[null,null,null,null,{"$f":"IF(EXACT(C15,\"M\"),calcul_age(AA15,D15),IF(EXACT(C15,\"F\"),calcul_age(AA15,D15),\"\"))","v":""},null,null,null,{"$f":"IF(EXACT(C15,\"M\"),categorie_poids_homme(AA15,E15,H15),IF(EXACT(C15,\"F\"),categorie_poids_femme(AA15,E15,H15),\"\"))","v":""},{"$f":"IF(H15=\"\",\"\",ROUNDUP(IF(EXACT(C15,\"M\"),IF(AA15=\"FA\",indice_homme_FA(H15),indice_homme_PL(H15)),IF(EXACT(C15,\"F\"),IF(AA15=\"PL\",indice_femme_PL(H15),indice_femme_FA(H15)),0)),6))","v":""},null,null,null,null,null,null,null,null,null,null,{"$f":"IF(AND(L15=\"\",M15=\"\",N15=\"\",O15=\"\",P15=\"\",Q15=\"\",R15=\"\",S15=\"\",T15=\"\"),\"\",total_annonce(L15,M15,N15,O15,P15,Q15,R15,S15,T15))","v":""},{"$f":"IF(AND(L15=\"\",M15=\"\",N15=\"\",O15=\"\",P15=\"\",Q15=\"\",R15=\"\",S15=\"\",T15=\"\"),\"\",total_réussi(L15,M15,N15,O15,P15,Q15,R15,S15,T15))","v":""},null,{"$f":"IF(AA15=0,\"\",IF(AA15=\"FA\",IF(H15=\"\",\"\",ROUNDUP(IF(EXACT(C15,\"M\"),indice_homme_FA(H15)*total_réussi(L15,M15,N15,O15,P15,Q15,R15,S15,T15),IF(EXACT(C15,\"F\"),indice_femme_FA(H15)*total_réussi(L15,M15,N15,O15,P15,Q15,R15,S15,T15),0)),6)),IF(H15=\"\",\"\",ROUNDUP(IF(EXACT(C15,\"M\"),indice_homme_PL(H15)*total_réussi(L15,M15,N15,O15,P15,Q15,R15,S15,T15),IF(EXACT(C15,\"F\"),indice_femme_PL(H15)*total_réussi(L15,M15,N15,O15,P15,Q15,R15,S15,T15),0)),6))))","v":""},{"$f":"IF(U15=\"\",\"\",IF(EXACT(C15,\"M\"),niv_homme(AA15,E15,H15,V15),IF(EXACT(C15,\"F\"),niv_femme(AA15,E15,H15,V15),\" \")))","v":""},{"$f":"IF(U15=\"\",\"\",IF(EXACT(C15,\"M\"),niv_open_homme(AA15,E15,H15,V15),IF(EXACT(C15,\"F\"),niv_open_femme(AA15,E15,H15,V15),\" \")))","v":""},"FA",null,{"$f":"IF(EXACT(C15,\"M\"),calcul_age_A1(AA15,D15),IF(EXACT(C15,\"F\"),calcul_age_A1(AA15,D15),\"\"))","v":""},{"$f":"IF(V15=\"\",\"\",IF(EXACT(C15,\"M\"),niv_homme(AA15,AC15,H15,V15),IF(EXACT(C15,\"F\"),niv_femme(AA15,AC15,H15,V15))))","v":""}]
[null,null,null,null,{"$f":"IF(EXACT(C16,\"M\"),calcul_age(AA16,D16),IF(EXACT(C16,\"F\"),calcul_age(AA16,D16),\"\"))","v":""},null,null,null,{"$f":"IF(EXACT(C16,\"M\"),categorie_poids_homme(AA16,E16,H16),IF(EXACT(C16,\"F\"),categorie_poids_femme(AA16,E16,H16),\"\"))","v":""},{"$f":"IF(H16=\"\",\"\",ROUNDUP(IF(EXACT(C16,\"M\"),IF(AA16=\"FA\",indice_homme_FA(H16),indice_homme_PL(H16)),IF(EXACT(C16,\"F\"),IF(AA16=\"PL\",indice_femme_PL(H16),indice_femme_FA(H16)),0)),6))","v":""},null,null,null,null,null,null,null,null,null,null,{"$f":"IF(AND(L16=\"\",M16=\"\",N16=\"\",O16=\"\",P16=\"\",Q16=\"\",R16=\"\",S16=\"\",T16=\"\"),\"\",total_annonce(L16,M16,N16,O16,P16,Q16,R16,S16,T16))","v":""},{"$f":"IF(AND(L16=\"\",M16=\"\",N16=\"\",O16=\"\",P16=\"\",Q16=\"\",R16=\"\",S16=\"\",T16=\"\"),\"\",total_réussi(L16,M16,N16,O16,P16,Q16,R16,S16,T16))","v":""},null,{"$f":"IF(AA16=0,\"\",IF(AA16=\"FA\",IF(H16=\"\",\"\",ROUNDUP(IF(EXACT(C16,\"M\"),indice_homme_FA(H16)*total_réussi(L16,M16,N16,O16,P16,Q16,R16,S16,T16),IF(EXACT(C16,\"F\"),indice_femme_FA(H16)*total_réussi(L16,M16,N16,O16,P16,Q16,R16,S16,T16),0)),6)),IF(H16=\"\",\"\",ROUNDUP(IF(EXACT(C16,\"M\"),indice_homme_PL(H16)*total_réussi(L16,M16,N16,O16,P16,Q16,R16,S16,T16),IF(EXACT(C16,\"F\"),indice_femme_PL(H16)*total_réussi(L16,M16,N16,O16,P16,Q16,R16,S16,T16),0)),6))))","v":""},{"$f":"IF(U16=\"\",\"\",IF(EXACT(C16,\"M\"),niv_homme(AA16,E16,H16,V16),IF(EXACT(C16,\"F\"),niv_femme(AA16,E16,H16,V16),\" \")))","v":""},{"$f":"IF(U16=\"\",\"\",IF(EXACT(C16,\"M\"),niv_open_homme(AA16,E16,H16,V16),IF(EXACT(C16,\"F\"),niv_open_femme(AA16,E16,H16,V16),\" \")))","v":""},"FA",null,{"$f":"IF(EXACT(C16,\"M\"),calcul_age_A1(AA16,D16),IF(EXACT(C16,\"F\"),calcul_age_A1(AA16,D16),\"\"))","v":""},{"$f":"IF(V16=\"\",\"\",IF(EXACT(C16,\"M\"),niv_homme(AA16,AC16,H16,V16),IF(EXACT(C16,\"F\"),niv_femme(AA16,AC16,H16,V16))))","v":""}]
[null,null,null,null,{"$f":"IF(EXACT(C17,\"M\"),calcul_age(AA17,D17),IF(EXACT(C17,\"F\"),calcul_age(AA17,D17),\"\"))","v":""},null,null,null,{"$f":"IF(EXACT(C17,\"M\"),categorie_poids_homme(AA17,E17,H17),IF(EXACT(C17,\"F\"),categorie_poids_femme(AA17,E17,H17),\"\"))","v":""},{"$f":"IF(H17=\"\",\"\",ROUNDUP(IF(EXACT(C17,\"M\"),IF(AA17=\"FA\",indice_homme_FA(H17),indice_homme_PL(H17)),IF(EXACT(C17,\"F\"),IF(AA17=\"PL\",indice_femme_PL(H17),indice_femme_FA(H17)),0)),6))","v":""},null,null,null,null,null,null,null,null,null,null,{"$f":"IF(AND(L17=\"\",M17=\"\",N17=\"\",O17=\"\",P17=\"\",Q17=\"\",R17=\"\",S17=\"\",T17=\"\"),\"\",total_annonce(L17,M17,N17,O17,P17,Q17,R17,S17,T17))","v":""},{"$f":"IF(AND(L17=\"\",M17=\"\",N17=\"\",O17=\"\",P17=\"\",Q17=\"\",R17=\"\",S17=\"\",T17=\"\"),\"\",total_réussi(L17,M17,N17,O17,P17,Q17,R17,S17,T17))","v":""},null,{"$f":"IF(AA17=0,\"\",IF(AA17=\"FA\",IF(H17=\"\",\"\",ROUNDUP(IF(EXACT(C17,\"M\"),indice_homme_FA(H17)*total_réussi(L17,M17,N17,O17,P17,Q17,R17,S17,T17),IF(EXACT(C17,\"F\"),indice_femme_FA(H17)*total_réussi(L17,M17,N17,O17,P17,Q17,R17,S17,T17),0)),6)),IF(H17=\"\",\"\",ROUNDUP(IF(EXACT(C17,\"M\"),indice_homme_PL(H17)*total_réussi(L17,M17,N17,O17,P17,Q17,R17,S17,T17),IF(EXACT(C17,\"F\"),indice_femme_PL(H17)*total_réussi(L17,M17,N17,O17,P17,Q17,R17,S17,T17),0)),6))))","v":""},{"$f":"IF(U17=\"\",\"\",IF(EXACT(C17,\"M\"),niv_homme(AA17,E17,H17,V17),IF(EXACT(C17,\"F\"),niv_femme(AA17,E17,H17,V17),\" \")))","v":""},{"$f":"IF(U17=\"\",\"\",IF(EXACT(C17,\"M\"),niv_open_homme(AA17,E17,H17,V17),IF(EXACT(C17,\"F\"),niv_open_femme(AA17,E17,H17,V17),\" \")))","v":""},"FA",null,{"$f":"IF(EXACT(C17,\"M\"),calcul_age_A1(AA17,D17),IF(EXACT(C17,\"F\"),calcul_age_A1(AA17,D17),\"\"))","v":""},{"$f":"IF(V17=\"\",\"\",IF(EXACT(C17,\"M\"),niv_homme(AA17,AC17,H17,V17),IF(EXACT(C17,\"F\"),niv_femme(AA17,AC17,H17,V17))))","v":""}]
[null,null,null,null,{"$f":"IF(EXACT(C18,\"M\"),calcul_age(AA18,D18),IF(EXACT(C18,\"F\"),calcul_age(AA18,D18),\"\"))","v":""},null,null,null,{"$f":"IF(EXACT(C18,\"M\"),categorie_poids_homme(AA18,E18,H18),IF(EXACT(C18,\"F\"),categorie_poids_femme(AA18,E18,H18),\"\"))","v":""},{"$f":"IF(H18=\"\",\"\",ROUNDUP(IF(EXACT(C18,\"M\"),IF(AA18=\"FA\",indice_homme_FA(H18),indice_homme_PL(H18)),IF(EXACT(C18,\"F\"),IF(AA18=\"PL\",indice_femme_PL(H18),indice_femme_FA(H18)),0)),6))","v":""},null,null,null,null,null,null,null,null,null,null,{"$f":"IF(AND(L18=\"\",M18=\"\",N18=\"\",O18=\"\",P18=\"\",Q18=\"\",R18=\"\",S18=\"\",T18=\"\"),\"\",total_annonce(L18,M18,N18,O18,P18,Q18,R18,S18,T18))","v":""},{"$f":"IF(AND(L18=\"\",M18=\"\",N18=\"\",O18=\"\",P18=\"\",Q18=\"\",R18=\"\",S18=\"\",T18=\"\"),\"\",total_réussi(L18,M18,N18,O18,P18,Q18,R18,S18,T18))","v":""},null,{"$f":"IF(AA18=0,\"\",IF(AA18=\"FA\",IF(H18=\"\",\"\",ROUNDUP(IF(EXACT(C18,\"M\"),indice_homme_FA(H18)*total_réussi(L18,M18,N18,O18,P18,Q18,R18,S18,T18),IF(EXACT(C18,\"F\"),indice_femme_FA(H18)*total_réussi(L18,M18,N18,O18,P18,Q18,R18,S18,T18),0)),6)),IF(H18=\"\",\"\",ROUNDUP(IF(EXACT(C18,\"M\"),indice_homme_PL(H18)*total_réussi(L18,M18,N18,O18,P18,Q18,R18,S18,T18),IF(EXACT(C18,\"F\"),indice_femme_PL(H18)*total_réussi(L18,M18,N18,O18,P18,Q18,R18,S18,T18),0)),6))))","v":""},{"$f":"IF(U18=\"\",\"\",IF(EXACT(C18,\"M\"),niv_homme(AA18,E18,H18,V18),IF(EXACT(C18,\"F\"),niv_femme(AA18,E18,H18,V18),\" \")))","v":""},{"$f":"IF(U18=\"\",\"\",IF(EXACT(C18,\"M\"),niv_open_homme(AA18,E18,H18,V18),IF(EXACT(C18,\"F\"),niv_open_femme(AA18,E18,H18,V18),\" \")))","v":""},"FA",null,{"$f":"IF(EXACT(C18,\"M\"),calcul_age_A1(AA18,D18),IF(EXACT(C18,\"F\"),calcul_age_A1(AA18,D18),\"\"))","v":""},{"$f":"IF(V18=\"\",\"\",IF(EXACT(C18,\"M\"),niv_homme(AA18,AC18,H18,V18),IF(EXACT(C18,\"F\"),niv_femme(AA18,AC18,H18,V18))))","v":""}]
[null,null,null,null,{"$f":"IF(EXACT(C19,\"M\"),calcul_age(AA19,D19),IF(EXACT(C19,\"F\"),calcul_age(AA19,D19),\"\"))","v":""},null,null,null,{"$f":"IF(EXACT(C19,\"M\"),categorie_poids_homme(AA19,E19,H19),IF(EXACT(C19,\"F\"),categorie_poids_femme(AA19,E19,H19),\"\"))","v":""},{"$f":"IF(H19=\"\",\"\",ROUNDUP(IF(EXACT(C19,\"M\"),IF(AA19=\"FA\",indice_homme_FA(H19),indice_homme_PL(H19)),IF(EXACT(C19,\"F\"),IF(AA19=\"PL\",indice_femme_PL(H19),indice_femme_FA(H19)),0)),6))","v":""},null,null,null,null,null,null,null,null,null,null,{"$f":"IF(AND(L19=\"\",M19=\"\",N19=\"\",O19=\"\",P19=\"\",Q19=\"\",R19=\"\",S19=\"\",T19=\"\"),\"\",total_annonce(L19,M19,N19,O19,P19,Q19,R19,S19,T19))","v":""},{"$f":"IF(AND(L19=\"\",M19=\"\",N19=\"\",O19=\"\",P19=\"\",Q19=\"\",R19=\"\",S19=\"\",T19=\"\"),\"\",total_réussi(L19,M19,N19,O19,P19,Q19,R19,S19,T19))","v":""},null,{"$f":"IF(AA19=0,\"\",IF(AA19=\"FA\",IF(H19=\"\",\"\",ROUNDUP(IF(EXACT(C19,\"M\"),indice_homme_FA(H19)*total_réussi(L19,M19,N19,O19,P19,Q19,R19,S19,T19),IF(EXACT(C19,\"F\"),indice_femme_FA(H19)*total_réussi(L19,M19,N19,O19,P19,Q19,R19,S19,T19),0)),6)),IF(H19=\"\",\"\",ROUNDUP(IF(EXACT(C19,\"M\"),indice_homme_PL(H19)*total_réussi(L19,M19,N19,O19,P19,Q19,R19,S19,T19),IF(EXACT(C19,\"F\"),indice_femme_PL(H19)*total_réussi(L19,M19,N19,O19,P19,Q19,R19,S19,T19),0)),6))))","v":""},{"$f":"IF(U19=\"\",\"\",IF(EXACT(C19,\"M\"),niv_homme(AA19,E19,H19,V19),IF(EXACT(C19,\"F\"),niv_femme(AA19,E19,H19,V19),\" \")))","v":""},{"$f":"IF(U19=\"\",\"\",IF(EXACT(C19,\"M\"),niv_open_homme(AA19,E19,H19,V19),IF(EXACT(C19,\"F\"),niv_open_femme(AA19,E19,H19,V19),\" \")))","v":""},"FA",null,{"$f":"IF(EXACT(C19,\"M\"),calcul_age_A1(AA19,D19),IF(EXACT(C19,\"F\"),calcul_age_A1(AA19,D19),\"\"))","v":""},{"$f":"IF(V19=\"\",\"\",IF(EXACT(C19,\"M\"),niv_homme(AA19,AC19,H19,V19),IF(EXACT(C19,\"F\"),niv_femme(AA19,AC19,H19,V19))))","v":""}]
[null,null,null,null,{"$f":"IF(EXACT(C20,\"M\"),calcul_age(AA20,D20),IF(EXACT(C20,\"F\"),calcul_age(AA20,D20),\"\"))","v":""},null,null,null,{"$f":"IF(EXACT(C20,\"M\"),categorie_poids_homme(AA20,E20,H20),IF(EXACT(C20,\"F\"),categorie_poids_femme(AA20,E20,H20),\"\"))","v":""},{"$f":"IF(H20=\"\",\"\",ROUNDUP(IF(EXACT(C20,\"M\"),IF(AA20=\"FA\",indice_homme_FA(H20),indice_homme_PL(H20)),IF(EXACT(C20,\"F\"),IF(AA20=\"PL\",indice_femme_PL(H20),indice_femme_FA(H20)),0)),6))","v":""},null,null,null,null,null,null,null,null,null,null,{"$f":"IF(AND(L20=\"\",M20=\"\",N20=\"\",O20=\"\",P20=\"\",Q20=\"\",R20=\"\",S20=\"\",T20=\"\"),\"\",total_annonce(L20,M20,N20,O20,P20,Q20,R20,S20,T20))","v":""},{"$f":"IF(AND(L20=\"\",M20=\"\",N20=\"\",O20=\"\",P20=\"\",Q20=\"\",R20=\"\",S20=\"\",T20=\"\"),\"\",total_réussi(L20,M20,N20,O20,P20,Q20,R20,S20,T20))","v":""},null,{"$f":"IF(AA20=0,\"\",IF(AA20=\"FA\",IF(H20=\"\",\"\",ROUNDUP(IF(EXACT(C20,\"M\"),indice_homme_FA(H20)*total_réussi(L20,M20,N20,O20,P20,Q20,R20,S20,T20),IF(EXACT(C20,\"F\"),indice_femme_FA(H20)*total_réussi(L20,M20,N20,O20,P20,Q20,R20,S20,T20),0)),6)),IF(H20=\"\",\"\",ROUNDUP(IF(EXACT(C20,\"M\"),indice_homme_PL(H20)*total_réussi(L20,M20,N20,O20,P20,Q20,R20,S20,T20),IF(EXACT(C20,\"F\"),indice_femme_PL(H20)*total_réussi(L20,M20,N20,O20,P20,Q20,R20,S20,T20),0)),6))))","v":""},{"$f":"IF(U20=\"\",\"\",IF(EXACT(C20,\"M\"),niv_homme(AA20,E20,H20,V20),IF(EXACT(C20,\"F\"),niv_femme(AA20,E20,H20,V20),\" \")))","v":""},{"$f":"IF(U20=\"\",\"\",IF(EXACT(C20,\"M\"),niv_open_homme(AA20,E20,H20,V20),IF(EXACT(C20,\"F\"),niv_open_femme(AA20,E20,H20,V20),\" \")))","v":""},"FA",null,{"$f":"IF(EXACT(C20,\"M\"),calcul_age_A1(AA20,D20),IF(EXACT(C20,\"F\"),calcul_age_A1(AA20,D20),\"\"))","v":""},{"$f":"IF(V20=\"\",\"\",IF(EXACT(C20,\"M\"),niv_homme(AA20,AC20,H20,V20),IF(EXACT(C20,\"F\"),niv_femme(AA20,AC20,H20,V20))))","v":""}]
[null,null,null,null,{"$f":"IF(EXACT(C21,\"M\"),calcul_age(AA21,D21),IF(EXACT(C21,\"F\"),calcul_age(AA21,D21),\"\"))","v":""},null,null,null,{"$f":"IF(EXACT(C21,\"M\"),categorie_poids_homme(AA21,E21,H21),IF(EXACT(C21,\"F\"),categorie_poids_femme(AA21,E21,H21),\"\"))","v":""},{"$f":"IF(H21=\"\",\"\",ROUNDUP(IF(EXACT(C21,\"M\"),IF(AA21=\"FA\",indice_homme_FA(H21),indice_homme_PL(H21)),IF(EXACT(C21,\"F\"),IF(AA21=\"PL\",indice_femme_PL(H21),indice_femme_FA(H21)),0)),6))","v":""},null,null,null,null,null,null,null,null,null,null,{"$f":"IF(AND(L21=\"\",M21=\"\",N21=\"\",O21=\"\",P21=\"\",Q21=\"\",R21=\"\",S21=\"\",T21=\"\"),\"\",total_annonce(L21,M21,N21,O21,P21,Q21,R21,S21,T21))","v":""},{"$f":"IF(AND(L21=\"\",M21=\"\",N21=\"\",O21=\"\",P21=\"\",Q21=\"\",R21=\"\",S21=\"\",T21=\"\"),\"\",total_réussi(L21,M21,N21,O21,P21,Q21,R21,S21,T21))","v":""},null,{"$f":"IF(AA21=0,\"\",IF(AA21=\"FA\",IF(H21=\"\",\"\",ROUNDUP(IF(EXACT(C21,\"M\"),indice_homme_FA(H21)*total_réussi(L21,M21,N21,O21,P21,Q21,R21,S21,T21),IF(EXACT(C21,\"F\"),indice_femme_FA(H21)*total_réussi(L21,M21,N21,O21,P21,Q21,R21,S21,T21),0)),6)),IF(H21=\"\",\"\",ROUNDUP(IF(EXACT(C21,\"M\"),indice_homme_PL(H21)*total_réussi(L21,M21,N21,O21,P21,Q21,R21,S21,T21),IF(EXACT(C21,\"F\"),indice_femme_PL(H21)*total_réussi(L21,M21,N21,O21,P21,Q21,R21,S21,T21),0)),6))))","v":""},{"$f":"IF(U21=\"\",\"\",IF(EXACT(C21,\"M\"),niv_homme(AA21,E21,H21,V21),IF(EXACT(C21,\"F\"),niv_femme(AA21,E21,H21,V21),\" \")))","v":""},{"$f":"IF(U21=\"\",\"\",IF(EXACT(C21,\"M\"),niv_open_homme(AA21,E21,H21,V21),IF(EXACT(C21,\"F\"),niv_open_femme(AA21,E21,H21,V21),\" \")))","v":""},"FA",null,{"$f":"IF(EXACT(C21,\"M\"),calcul_age_A1(AA21,D21),IF(EXACT(C21,\"F\"),calcul_age_A1(AA21,D21),\"\"))","v":""},{"$f":"IF(V21=\"\",\"\",IF(EXACT(C21,\"M\"),niv_homme(AA21,AC21,H21,V21),IF(EXACT(C21,\"F\"),niv_femme(AA21,AC21,H21,V21))))","v":""}]
[null,null,null,null,{"$f":"IF(EXACT(C22,\"M\"),calcul_age(AA22,D22),IF(EXACT(C22,\"F\"),calcul_age(AA22,D22),\"\"))","v":""},null,null,null,{"$f":"IF(EXACT(C22,\"M\"),categorie_poids_homme(AA22,E22,H22),IF(EXACT(C22,\"F\"),categorie_poids_femme(AA22,E22,H22),\"\"))","v":""},{"$f":"IF(H22=\"\",\"\",ROUNDUP(IF(EXACT(C22,\"M\"),IF(AA22=\"FA\",indice_homme_FA(H22),indice_homme_PL(H22)),IF(EXACT(C22,\"F\"),IF(AA22=\"PL\",indice_femme_PL(H22),indice_femme_FA(H22)),0)),6))","v":""},null,null,null,null,null,null,null,null,null,null,{"$f":"IF(AND(L22=\"\",M22=\"\",N22=\"\",O22=\"\",P22=\"\",Q22=\"\",R22=\"\",S22=\"\",T22=\"\"),\"\",total_annonce(L22,M22,N22,O22,P22,Q22,R22,S22,T22))","v":""},{"$f":"IF(AND(L22=\"\",M22=\"\",N22=\"\",O22=\"\",P22=\"\",Q22=\"\",R22=\"\",S22=\"\",T22=\"\"),\"\",total_réussi(L22,M22,N22,O22,P22,Q22,R22,S22,T22))","v":""},null,{"$f":"IF(AA22=0,\"\",IF(AA22=\"FA\",IF(H22=\"\",\"\",ROUNDUP(IF(EXACT(C22,\"M\"),indice_homme_FA(H22)*total_réussi(L22,M22,N22,O22,P22,Q22,R22,S22,T22),IF(EXACT(C22,\"F\"),indice_femme_FA(H22)*total_réussi(L22,M22,N22,O22,P22,Q22,R22,S22,T22),0)),6)),IF(H22=\"\",\"\",ROUNDUP(IF(EXACT(C22,\"M\"),indice_homme_PL(H22)*total_réussi(L22,M22,N22,O22,P22,Q22,R22,S22,T22),IF(EXACT(C22,\"F\"),indice_femme_PL(H22)*total_réussi(L22,M22,N22,O22,P22,Q22,R22,S22,T22),0)),6))))","v":""},{"$f":"IF(U22=\"\",\"\",IF(EXACT(C22,\"M\"),niv_homme(AA22,E22,H22,V22),IF(EXACT(C22,\"F\"),niv_femme(AA22,E22,H22,V22),\" \")))","v":""},{"$f":"IF(U22=\"\",\"\",IF(EXACT(C22,\"M\"),niv_open_homme(AA22,E22,H22,V22),IF(EXACT(C22,\"F\"),niv_open_femme(AA22,E22,H22,V22),\" \")))","v":""},"FA",null,{"$f":"IF(EXACT(C22,\"M\"),calcul_age_A1(AA22,D22),IF(EXACT(C22,\"F\"),calcul_age_A1(AA22,D22),\"\"))","v":""},{"$f":"IF(V22=\"\",\"\",IF(EXACT(C22,\"M\"),niv_homme(AA22,AC22,H22,V22),IF(EXACT(C22,\"F\"),niv_femme(AA22,AC22,H22,V22))))","v":""}]
[null,null,null,null,{"$f":"IF(EXACT(C23,\"M\"),calcul_age(AA23,D23),IF(EXACT(C23,\"F\"),calcul_age(AA23,D23),\"\"))","v":""},null,null,null,{"$f":"IF(EXACT(C23,\"M\"),categorie_poids_homme(AA23,E23,H23),IF(EXACT(C23,\"F\"),categorie_poids_femme(AA23,E23,H23),\"\"))","v":""},{"$f":"IF(H23=\"\",\"\",ROUNDUP(IF(EXACT(C23,\"M\"),IF(AA23=\"FA\",indice_homme_FA(H23),indice_homme_PL(H23)),IF(EXACT(C23,\"F\"),IF(AA23=\"PL\",indice_femme_PL(H23),indice_femme_FA(H23)),0)),6))","v":""},null,null,null,null,null,null,null,null,null,null,{"$f":"IF(AND(L23=\"\",M23=\"\",N23=\"\",O23=\"\",P23=\"\",Q23=\"\",R23=\"\",S23=\"\",T23=\"\"),\"\",total_annonce(L23,M23,N23,O23,P23,Q23,R23,S23,T23))","v":""},{"$f":"IF(AND(L23=\"\",M23=\"\",N23=\"\",O23=\"\",P23=\"\",Q23=\"\",R23=\"\",S23=\"\",T23=\"\"),\"\",total_réussi(L23,M23,N23,O23,P23,Q23,R23,S23,T23))","v":""},null,{"$f":"IF(AA23=0,\"\",IF(AA23=\"FA\",IF(H23=\"\",\"\",ROUNDUP(IF(EXACT(C23,\"M\"),indice_homme_FA(H23)*total_réussi(L23,M23,N23,O23,P23,Q23,R23,S23,T23),IF(EXACT(C23,\"F\"),indice_femme_FA(H23)*total_réussi(L23,M23,N23,O23,P23,Q23,R23,S23,T23),0)),6)),IF(H23=\"\",\"\",ROUNDUP(IF(EXACT(C23,\"M\"),indice_homme_PL(H23)*total_réussi(L23,M23,N23,O23,P23,Q23,R23,S23,T23),IF(EXACT(C23,\"F\"),indice_femme_PL(H23)*total_réussi(L23,M23,N23,O23,P23,Q23,R23,S23,T23),0)),6))))","v":""},{"$f":"IF(U23=\"\",\"\",IF(EXACT(C23,\"M\"),niv_homme(AA23,E23,H23,V23),IF(EXACT(C23,\"F\"),niv_femme(AA23,E23,H23,V23),\" \")))","v":""},{"$f":"IF(U23=\"\",\"\",IF(EXACT(C23,\"M\"),niv_open_homme(AA23,E23,H23,V23),IF(EXACT(C23,\"F\"),niv_open_femme(AA23,E23,H23,V23),\" \")))","v":""},"FA",null,{"$f":"IF(EXACT(C23,\"M\"),calcul_age_A1(AA23,D23),IF(EXACT(C23,\"F\"),calcul_age_A1(AA23,D23),\"\"))","v":""},{"$f":"IF(V23=\"\",\"\",IF(EXACT(C23,\"M\"),niv_homme(AA23,AC23,H23,V23),IF(EXACT(C23,\"F\"),niv_femme(AA23,AC23,H23,V23))))","v":""}]
[null,null,null,null,{"$f":"IF(EXACT(C24,\"M\"),calcul_age(AA24,D24),IF(EXACT(C24,\"F\"),calcul_age(AA24,D24),\"\"))","v":""},null,null,null,{"$f":"IF(EXACT(C24,\"M\"),categorie_poids_homme(AA24,E24,H24),IF(EXACT(C24,\"F\"),categorie_poids_femme(AA24,E24,H24),\"\"))","v":""},{"$f":"IF(H24=\"\",\"\",ROUNDUP(IF(EXACT(C24,\"M\"),IF(AA24=\"FA\",indice_homme_FA(H24),indice_homme_PL(H24)),IF(EXACT(C24,\"F\"),IF(AA24=\"PL\",indice_femme_PL(H24),indice_femme_FA(H24)),0)),6))","v":""},null,null,null,null,null,null,null,null,null,null,{"$f":"IF(AND(L24=\"\",M24=\"\",N24=\"\",O24=\"\",P24=\"\",Q24=\"\",R24=\"\",S24=\"\",T24=\"\"),\"\",total_annonce(L24,M24,N24,O24,P24,Q24,R24,S24,T24))","v":""},{"$f":"IF(AND(L24=\"\",M24=\"\",N24=\"\",O24=\"\",P24=\"\",Q24=\"\",R24=\"\",S24=\"\",T24=\"\"),\"\",total_réussi(L24,M24,N24,O24,P24,Q24,R24,S24,T24))","v":""},null,{"$f":"IF(AA24=0,\"\",IF(AA24=\"FA\",IF(H24=\"\",\"\",ROUNDUP(IF(EXACT(C24,\"M\"),indice_homme_FA(H24)*total_réussi(L24,M24,N24,O24,P24,Q24,R24,S24,T24),IF(EXACT(C24,\"F\"),indice_femme_FA(H24)*total_réussi(L24,M24,N24,O24,P24,Q24,R24,S24,T24),0)),6)),IF(H24=\"\",\"\",ROUNDUP(IF(EXACT(C24,\"M\"),indice_homme_PL(H24)*total_réussi(L24,M24,N24,O24,P24,Q24,R24,S24,T24),IF(EXACT(C24,\"F\"),indice_femme_PL(H24)*total_réussi(L24,M24,N24,O24,P24,Q24,R24,S24,T24),0)),6))))","v":""},{"$f":"IF(U24=\"\",\"\",IF(EXACT(C24,\"M\"),niv_homme(AA24,E24,H24,V24),IF(EXACT(C24,\"F\"),niv_femme(AA24,E24,H24,V24),\" \")))","v":""},{"$f":"IF(U24=\"\",\"\",IF(EXACT(C24,\"M\"),niv_open_homme(AA24,E24,H24,V24),IF(EXACT(C24,\"F\"),niv_open_femme(AA24,E24,H24,V24),\" \")))","v":""},"FA",null,{"$f":"IF(EXACT(C24,\"M\"),calcul_age_A1(AA24,D24),IF(EXACT(C24,\"F\"),calcul_age_A1(AA24,D24),\"\"))","v":""},{"$f":"IF(V24=\"\",\"\",IF(EXACT(C24,\"M\"),niv_homme(AA24,AC24,H24,V24),IF(EXACT(C24,\"F\"),niv_femme(AA24,AC24,H24,V24))))","v":""}]
[]
[]
[]
[]
[]
["OBSERVATIONS et DIVERS :",null,null,null,null,null,"Secrétaire",null,"1er Assesseur",null,null,null,"Chef de Plateau",null,null,null,"2eme Assesseur"]

{"sheet":"Engagements","index":1,"n_rows":127,"n_cols":10,"rows_kept":127,"cut":false,"hidden":false,"merged":[[124,1,124,2],[125,1,125,2],[126,0,126,2],[122,1,122,4],[44,1,44,2],[45,1,45,2],[12,1,12,2],[13,1,13,2],[14,0,14,2],[36,1,36,2],[18,1,18,4],[26,1,26,4],[20,1,20,2],[37,1,37,2],[40,1,40,4],[32,1,32,4],[24,1,24,4],[16,1,16,4],[90,1,90,4],[98,1,98,4],[106,1,106,4],[34,1,34,4],[42,1,42,4],[50,1,50,4],[120,1,120,4],[112,1,112,4],[104,1,104,4],[84,1,84,2],[85,1,85,2],[86,0,86,2],[92,1,92,2],[93,1,93,2],[94,0,94,2],[96,1,96,4],[88,1,88,4],[109,1,109,2],[110,0,110,2],[114,1,114,4],[74,1,74,4],[82,1,82,4],[117,1,117,2],[118,0,118,2],[38,0,38,2],[116,1,116,2],[100,1,100,2],[101,1,101,2],[102,0,102,2],[108,1,108,2],[80,1,80,4],[72,1,72,4],[64,1,64,4],[56,1,56,4],[48,1,48,4],[68,1,68,2],[69,1,69,2],[70,0,70,2],[76,1,76,2],[77,1,77,2],[78,0,78,2],[52,1,52,2],[53,1,53,2],[58,1,58,4],[54,0,54,2],[60,1,60,2],[61,1,61,2],[62,0,62,2],[66,1,66,4],[8,1,8,4],[0,1,0,4],[2,1,2,4],[21,1,21,2],[22,0,22,2],[28,1,28,2],[29,1,29,2],[30,0,30,2],[4,1,4,2],[5,1,5,2],[6,0,6,2],[10,1,10,4],[46,0,46,2],[8,6,8,7],[10,6,10,7],[16,6,16,7],[18,6,18,7],[24,6,24,7],[26,6,26,7],[2,6,2,7],[0,6,0,7],[32,6,32,7],[34,6,34,7],[40,6,40,7],[42,6,42,7],[48,6,48,7],[50,6,50,7],[56,6,56,7],[58,6,58,7],[64,6,64,7],[66,6,66,7],[104,6,104,7],[106,6,106,7],[112,6,112,7],[114,6,114,7],[122,6,122,7],[120,6,120,7],[72,6,72,7],[74,6,74,7],[80,6,80,7],[82,6,82,7],[88,6,88,7],[90,6,90,7],[96,6,96,7],[98,6,98,7]]}
["NOM :",{"$f":"FA!F9","v":0},null,null,null,"Prénom :",{"$f":"FA!G9","v":0},null,"N° tirage au sort :",{"$f":"FA!K9","v":0}]
["Discipline",{"$f":"FA!$AA9","v":"FA"},"Sexe :    ",{"$f":"FA!$C9","v":0},"Date de naissance : ",{"$f":"FA!$D9","v":"00:00:00"},"Catégorie d'âge :",{"$f":"FA!$E9","v":""}," Visa de l'athlète :"]
["Club :",{"$f":"FA!$B9","v":0},null,null,null,"N° licence :",{"$f":"FA!$A9","v":0}]
["Poids de corps :",null,null,"Barre de départ","1er essai","2° essai","3° essai","Modif 3° essai","Modif  3° essai","Résultat"]
["Squat","Hauteur support :"]
["Dév. Couché"," Cales :   O      N\n Hauteur :"]
["  Soulevé de Terre"]
[]
["NOM :",{"$f":"FA!F$10","v":0},null,null,null,"Prénom :",{"$f":"FA!G$10","v":0},null,"N° tirage au sort :",{"$f":"FA!K$10","v":0}]
["Discipline",{"$f":"FA!$AA10","v":"FA"},"Sexe :    ",{"$f":"FA!$C10","v":0},"Date de naissance : ",{"$f":"FA!$D10","v":"00:00:00"},"Catégorie d'âge :",{"$f":"FA!$E10","v":""}," Visa de l'athlète :"]
["Club :",{"$f":"FA!B$10","v":0},null,null,null,"N° licence :",{"$f":"FA!A$10","v":0}]
["Poids de corps :",null,null,"Barre de départ","1er essai","2° essai","3° essai","Modif 3° essai","Modif  3° essai","Résultat"]
["Squat","Hauteur support :"]
["Dév. Couché"," Cales :   O      N\n Hauteur :"]
["  Soulevé de Terre"]
[]
["NOM :",{"$f":"FA!F$11","v":0},null,null,null,"Prénom :",{"$f":"FA!G$11","v":0},null,"N° tirage au sort :",{"$f":"FA!K$11","v":0}]
["Discipline",{"$f":"FA!$AA11","v":"FA"},"Sexe :    ",{"$f":"FA!$C11","v":0},"Date de naissance : ",{"$f":"FA!$D11","v":"00:00:00"},"Catégorie d'âge :",{"$f":"FA!$E11","v":""}," Visa de l'athlète :"]
["Club :",{"$f":"FA!B$11","v":0},null,null,null,"N° licence :",{"$f":"FA!A$11","v":0}]
["Poids de corps :",null,null,"Barre de départ","1er essai","2° essai","3° essai","Modif 3° essai","Modif  3° essai","Résultat"]
["Squat","Hauteur support :"]
["Dév. Couché"," Cales :   O      N\n Hauteur :"]
["  Soulevé de Terre"]
[]
["NOM :",{"$f":"FA!F$12","v":0},null,null,null,"Prénom :",{"$f":"FA!G$12","v":0},null,"N° tirage au sort :",{"$f":"FA!K$12","v":0}]
["Discipline",{"$f":"FA!$AA12","v":"FA"},"Sexe :    ",{"$f":"FA!$C12","v":0},"Date de naissance : ",{"$f":"FA!$D12","v":"00:00:00"},"Catégorie d'âge :",{"$f":"FA!$E12","v":""}," Visa de l'athlète :"]
["Club :",{"$f":"FA!B$12","v":0},null,null,null,"N° licence :",{"$f":"FA!A$12","v":0}]
["Poids de corps :",null,null,"Barre de départ","1er essai","2° essai","3° essai","Modif 3° essai","Modif  3° essai","Résultat"]
["Squat","Hauteur support :"]
["Dév. Couché"," Cales :   O      N\n Hauteur :"]
["  Soulevé de Terre"]
[]
["NOM :",{"$f":"FA!F$13","v":0},null,null,null,"Prénom :",{"$f":"FA!G$13","v":0},null,"N° tirage au sort :",{"$f":"FA!K$13","v":0}]
["Discipline",{"$f":"FA!$AA13","v":"FA"},"Sexe :    ",{"$f":"FA!$C13","v":0},"Date de naissance : ",{"$f":"FA!$D13","v":"00:00:00"},"Catégorie d'âge :",{"$f":"FA!E$13","v":""}," Visa de l'athlète :"]
["Club :",{"$f":"FA!B$13","v":0},null,null,null,"N° licence :",{"$f":"FA!A$13","v":0}]
["Poids de corps :",null,null,"Barre de départ","1er essai","2° essai","3° essai","Modif 3° essai","Modif  3° essai","Résultat"]
["Squat","Hauteur support :"]
["Dév. Couché"," Cales :   O      N\n Hauteur :"]
["  Soulevé de Terre"]
[]
["NOM :",{"$f":"FA!F$14","v":0},null,null,null,"Prénom :",{"$f":"FA!G$14","v":0},null,"N° tirage au sort :",{"$f":"FA!K$14","v":0}]
["Discipline",{"$f":"FA!$AA14","v":"FA"},"Sexe :    ",{"$f":"FA!$C14","v":0},"Date de naissance : ",{"$f":"FA!$D14","v":"00:00:00"},"Catégorie d'âge :",{"$f":"FA!E$14","v":""}," Visa de l'athlète :"]
["Club :",{"$f":"FA!B$14","v":0},null,null,null,"N° licence :",{"$f":"FA!A$14","v":0}]
["Poids de corps :",null,null,"Barre de départ","1er essai","2° essai","3° essai","Modif 3° essai","Modif  3° essai","Résultat"]
["Squat","Hauteur support :"]
["Dév. Couché"," Cales :   O      N\n Hauteur :"]
["  Soulevé de Terre"]
[]
["NOM :",{"$f":"FA!F$15","v":0},null,null,null,"Prénom :",{"$f":"FA!G$15","v":0},null,"N° tirage au sort :",{"$f":"FA!K$15","v":0}]
["Discipline",{"$f":"FA!$AA15","v":"FA"},"Sexe :    ",{"$f":"FA!$C15","v":0},"Date de naissance : ",{"$f":"FA!$D15","v":"00:00:00"},"Catégorie d'âge :",{"$f":"FA!E$15","v":""}," Visa de l'athlète :"]
["Club :",{"$f":"FA!B$15","v":0},null,null,null,"N° licence :",{"$f":"FA!A$15","v":0}]
["Poids de corps :",null,null,"Barre de départ","1er essai","2° essai","3° essai","Modif 3° essai","Modif  3° essai","Résultat"]
["Squat","Hauteur support :"]
["Dév. Couché"," Cales :   O      N\n Hauteur :"]
["  Soulevé de Terre"]
[]
["NOM :",{"$f":"FA!F$16","v":0},null,null,null,"Prénom :",{"$f":"FA!G$16","v":0},null,"N° tirage au sort :",{"$f":"FA!K$16","v":0}]
["Discipline",{"$f":"FA!$AA16","v":"FA"},"Sexe :    ",{"$f":"FA!$C16","v":0},"Date de naissance : ",{"$f":"FA!$D16","v":"00:00:00"},"Catégorie d'âge :",{"$f":"FA!E$16","v":""}," Visa de l'athlète :"]
["Club :",{"$f":"FA!B$16","v":0},null,null,null,"N° licence :",{"$f":"FA!A$16","v":0}]
["Poids de corps :",null,null,"Barre de départ","1er essai","2° essai","3° essai","Modif 3° essai","Modif  3° essai","Résultat"]
["Squat","Hauteur support :"]
["Dév. Couché"," Cales :   O      N\n Hauteur :"]
["  Soulevé de Terre"]
[]
["NOM :",{"$f":"FA!F$17","v":0},null,null,null,"Prénom :",{"$f":"FA!G$17","v":0},null,"N° tirage au sort :",{"$f":"FA!K$17","v":0}]
["Discipline",{"$f":"FA!$AA17","v":"FA"},"Sexe :    ",{"$f":"FA!$C17","v":0},"Date de naissance : ",{"$f":"FA!$D17","v":"00:00:00"},"Catégorie d'âge :",{"$f":"FA!$E17","v":""}," Visa de l'athlète :"]
["Club :",{"$f":"FA!B$17","v":0},null,null,null,"N° licence :",{"$f":"FA!A$17","v":0}]
["Poids de corps :",null,null,"Barre de départ","1er essai","2° essai","3° essai","Modif 3° essai","Modif  3° essai","Résultat"]
["Squat","Hauteur support :"]
["Dév. Couché"," Cales :   O      N\n Hauteur :"]
["  Soulevé de Terre"]
[]
["NOM :",{"$f":"FA!F$18","v":0},null,null,null,"Prénom :",{"$f":"FA!G$18","v":0},null,"N° tirage au sort :",{"$f":"FA!K$18","v":0}]
["Discipline",{"$f":"FA!$AA18","v":"FA"},"Sexe :    ",{"$f":"FA!$C18","v":0},"Date de naissance : ",{"$f":"FA!$D18","v":"00:00:00"},"Catégorie d'âge :",{"$f":"FA!$E18","v":""}," Visa de l'athlète :"]
["Club :",{"$f":"FA!B$18","v":0},null,null,null,"N° licence :",{"$f":"FA!A$18","v":0}]
["Poids de corps :",null,null,"Barre de départ","1er essai","2° essai","3° essai","Modif 3° essai","Modif  3° essai","Résultat"]
["Squat","Hauteur support :"]
["Dév. Couché"," Cales :   O      N\n Hauteur :"]
["  Soulevé de Terre"]
[]
["NOM :",{"$f":"FA!F$19","v":0},null,null,null,"Prénom :",{"$f":"FA!G$19","v":0},null,"N° tirage au sort :",{"$f":"FA!K$19","v":0}]
["Discipline",{"$f":"FA!$AA19","v":"FA"},"Sexe :    ",{"$f":"FA!$C19","v":0},"Date de naissance : ",{"$f":"FA!$D19","v":"00:00:00"},"Catégorie d'âge :",{"$f":"FA!$E19","v":""}," Visa de l'athlète :"]
["Club :",{"$f":"FA!B$19","v":0},null,null,null,"N° licence :",{"$f":"FA!A$19","v":0}]
["Poids de corps :",null,null,"Barre de départ","1er essai","2° essai","3° essai","Modif 3° essai","Modif  3° essai","Résultat"]
["Squat","Hauteur support :"]
["Dév. Couché"," Cales :   O      N\n Hauteur :"]
["  Soulevé de Terre"]
[]
["NOM :",{"$f":"FA!F$20","v":0},null,null,null,"Prénom :",{"$f":"FA!G$20","v":0},null,"N° tirage au sort :",{"$f":"FA!K$20","v":0}]
["Discipline",{"$f":"FA!$AA20","v":"FA"},"Sexe :    ",{"$f":"FA!$C20","v":0},"Date de naissance : ",{"$f":"FA!$D20","v":"00:00:00"},"Catégorie d'âge :",{"$f":"FA!$E20","v":""}," Visa de l'athlète :"]
["Club :",{"$f":"FA!B$20","v":0},null,null,null,"N° licence :",{"$f":"FA!A$20","v":0}]
["Poids de corps :",null,null,"Barre de départ","1er essai","2° essai","3° essai","Modif 3° essai","Modif  3° essai","Résultat"]
["Squat","Hauteur support :"]
["Dév. Couché"," Cales :   O      N\n Hauteur :"]
["  Soulevé de Terre"]
[]
["NOM :",{"$f":"FA!F$21","v":0},null,null,null,"Prénom :",{"$f":"FA!G$21","v":0},null,"N° tirage au sort :",{"$f":"FA!K$21","v":0}]
["Discipline",{"$f":"FA!$AA21","v":"FA"},"Sexe :    ",{"$f":"FA!$C21","v":0},"Date de naissance : ",{"$f":"FA!$D21","v":"00:00:00"},"Catégorie d'âge :",{"$f":"FA!E$21","v":""}," Visa de l'athlète :"]
["Club :",{"$f":"FA!B$21","v":0},null,null,null,"N° licence :",{"$f":"FA!A$21","v":0}]
["Poids de corps :",null,null,"Barre de départ","1er essai","2° essai","3° essai","Modif 3° essai","Modif  3° essai","Résultat"]
["Squat","Hauteur support :"]
["Dév. Couché"," Cales :   O      N\n Hauteur :"]
["  Soulevé de Terre"]
[]
["NOM :",{"$f":"FA!F$22","v":0},null,null,null,"Prénom :",{"$f":"FA!G$22","v":0},null,"N° tirage au sort :",{"$f":"FA!K$22","v":0}]
["Discipline",{"$f":"FA!$AA22","v":"FA"},"Sexe :    ",{"$f":"FA!$C22","v":0},"Date de naissance : ",{"$f":"FA!$D22","v":"00:00:00"},"Catégorie d'âge :",{"$f":"FA!$E22","v":""}," Visa de l'athlète :"]
["Club :",{"$f":"FA!B$22","v":0},null,null,null,"N° licence :",{"$f":"FA!A$22","v":0}]
["Poids de corps :",null,null,"Barre de départ","1er essai","2° essai","3° essai","Modif 3° essai","Modif  3° essai","Résultat"]
["Squat","Hauteur support :"]
["Dév. Couché"," Cales :   O      N\n Hauteur :"]
["  Soulevé de Terre"]
[]
["NOM :",{"$f":"FA!F$23","v":0},null,null,null,"Prénom :",{"$f":"FA!G$23","v":0},null,"N° tirage au sort :",{"$f":"FA!K$23","v":0}]
["Discipline",{"$f":"FA!$AA23","v":"FA"},"Sexe :    ",{"$f":"FA!$C23","v":0},"Date de naissance : ",{"$f":"FA!$D23","v":"00:00:00"},"Catégorie d'âge :",{"$f":"FA!$E23","v":""}," Visa de l'athlète :"]
["Club :",{"$f":"FA!B$23","v":0},null,null,null,"N° licence :",{"$f":"FA!A$23","v":0}]
["Poids de corps :",null,null,"Barre de départ","1er essai","2° essai","3° essai","Modif 3° essai","Modif  3° essai","Résultat"]
["Squat","Hauteur support :"]
["Dév. Couché"," Cales :   O      N\n Hauteur :"]
["  Soulevé de Terre"]
[]
["NOM :",{"$f":"FA!F$24","v":0},null,null,null,"Prénom :",{"$f":"FA!G$24","v":0},null,"N° tirage au sort :",{"$f":"FA!K$24","v":0}]
["Discipline",{"$f":"FA!$AA24","v":"FA"},"Sexe :    ",{"$f":"FA!$C24","v":0},"Date de naissance : ",{"$f":"FA!$D24","v":"00:00:00"},"Catégorie d'âge :",{"$f":"FA!$E24","v":""}," Visa de l'athlète :"]
["Club :",{"$f":"FA!B$24","v":0},null,null,null,"N° licence :",{"$f":"FA!A$24","v":0}]
["Poids de corps :",null,null,"Barre de départ","1er essai","2° essai","3° essai","Modif 3° essai","Modif  3° essai","Résultat"]
["Squat","Hauteur support :"]
["Dév. Couché"," Cales :   O      N\n Hauteur :"]
["  Soulevé de Terre"]

{"sheet":"Niv FA","index":2,"n_rows":81,"n_cols":17,"rows_kept":81,"cut":false,"hidden":false,"merged":[[0,0,0,12],[1,0,1,12],[3,9,3,16],[3,0,3,7],[49,0,49,4],[15,9,15,16],[15,0,15,7],[27,9,27,16],[27,0,27,7],[38,0,38,4],[38,9,38,13],[71,9,71,13],[60,9,60,13],[49,9,49,13],[71,0,71,4],[60,0,60,4]]}
["NIVEAUX FORCE ATHLETIQUE"]
["Publié le 10 Juin 2025 -  4 Avril 2025 Subjuniors et Juniors et le 10 Juin 2025 Masters mis à jour - Niveau internationaux et Open à jour Novembre 2025"]
[null,"les performances inferieures au niveau régionale sont classées par défaut comme niveau départemental"]
["SJR masculin",null,null,null,null,null,null,null,null,"SJR féminine"]
["Catég.","R3","R2","R1","N2","N1","Europe","Monde",null,"Catég.","R3","R2","R1","N2","N1","Europe","Monde"]
[53,145,195,245,272.5,320,490,500,null,43,80,102.5,125,147.5,190,260,270]
[59,170,220,290,320,380,500,510,null,47,100,122.5,145,167.5,210,270,280]
[66,235,285,355,387.5,470,560,590,null,52,110,135,160,185,240,335,340]
[74,285,335,405,442.5,515,610,650,null,57,120,147.5,175,202.5,265,345,350]
[83,335,385,455,492.5,535,660,700,null,63,125,152.5,180,207.5,285,395,400]
[93,315,365,465,502.5,545,680,720,null,69,140,167.5,195,222.5,300,420,425]
[105,325,375,475,512.5,560,700,730,null,76,160,187.5,215,242.5,315,425,430]
[120,335,385,485,522.5,580,720,740,null,84,175,202.5,230,257.5,320,430,435]
["120 +",355,405,505,542.5,590,725,745,null,"84 +",190,217.5,245,272.5,340,440,450]
[null,"les performances inferieures au niveau régionale sont classées par défaut comme niveau départemental"]
["JR masculin",null,null,null,null,null,null,null,null,"JR féminine"]
["Catég.","R3","R2","R1"," N2","N1","Europe","Monde",null,"Catég.","R3","R2","R1","N2","N1","Europe","Monde"]
[53,200,250,300,362.5,400,535,550,null,43,125,145,165,187.5,230,340,345]
[59,215,265,335,420,480,545,590,null,47,140,160,180,207.5,285,345,365]
[66,295,345,415,497.5,557.5,620,640,null,52,190,210,230,255,335,370,380]
[74,360,410,480,562.5,650,695,715,null,57,200,230,260,302.5,365,420,430]
[83,410,460,530,602.5,680,740,770,null,63,220,250,280,322.5,390,455,465]
[93,397.5,447.5,547.5,627.5,695,780,815,null,69,230,260,290,332.5,410,490,515]
[105,420,470,570,642.5,707.5,810,840,null,76,235,265,295,342.5,420,500,520]
[120,427.5,477.5,577.5,652.5,715,840,850,null,84,245,275,305,352.5,425,520,535]
["120 +",440,490,590,662.5,730,845,860,null,"84 +",250,280,310,357.5,430,530,540]
[null,"les performances inferieures au niveau régionale sont classées par défaut comme niveau départemental"]
["SNR masculin",null,null,null,null,null,null,null,null,"SNR féminine"]
["Catég.","R3","R2","R1","N2","N1","Europe","Monde",null,"Catég.","R3","R2","R1","N2","N1","Europe","Monde"]
[59,350,400,450,500,535,580,600,null,47,200,220,250,300,325,390,400]
[66,430,480,530,580,600,650,670,null,52,250,270,300,350,380,425,435]
[74,510,560,610,660,680,750,760,null,57,265,295,335,385,410,475,485]
[83,570,620,670,720,740,790,810,null,63,280,310,350,400,440,500,510]
[93,595,645,695,745,770,840,860,null,69,300,330,370,420,460,535,550]
[105,620,670,720,760,800,900,910,null,76,305,335,375,425,470,550,565]
[120,610,660,710,770,810,915,930,null,84,315,345,385,435,480,555,570]
["120 +",640,690,740,800,820,920,950,null,"84 +",320,350,390,440,500,620,650]
[null,"les performances inferieures au niveau régionale sont classées par défaut comme niveau départemental","les performances inferieures au niveau régionale sont classées par défaut comme niveau départemental"]
["M1 masculin",null,null,null,null,null,null,null,null,"M1 féminine"]
["Catég.","R3","R2","R1","N2","N1",null,null,null,"Catég.","R3","R2","R1","N2","N1"]
[59,157.5,220,267.5,290,370,null,null,null,47,102.5,145,177.5,190,240]
[66,185,260,315,347.5,400,null,null,null,52,112.5,157.5,192.5,210,260]
[74,212.5,300,362.5,395,465,null,null,null,57,120,167.5,205,220,270]
[83,240,335,407.5,452.5,540,null,null,null,63,125,172.5,210,225,280]
[93,265,370,450,492.5,580,null,null,null,69,127.5,180,217.5,240,300]
[105,280,392.5,475,517.5,600,null,null,null,76,135,190,230,250,310]
[120,302.5,422.5,515,557.5,630,null,null,null,84,142.5,200,242.5,260,330]
["120 +",305,427.5,517.5,560,650,null,null,null,"84 +",150,210,255,270,340]
[null,"les performances inferieures au niveau régionale sont classées par défaut comme niveau départemental"]
["M2 masculin",null,null,null,null,null,null,null,null,"M2 féminine"]
["Catég.","R3","R2","R1","N2","N1",null,null,null,"Catég.","R3","R2","R1","N2","N1"]
[59,142.5,197.5,240,270,340,null,null,null,47,92.5,132.5,160,170,200]
[66,167.5,235,285,312.5,380,null,null,null,52,102.5,142.5,172.5,185,220]
[74,192.5,270,327.5,362.5,435,null,null,null,57,107.5,152.5,185,200,235]
[83,217.5,302.5,367.5,400,480,null,null,null,63,112.5,157.5,190,205,250]
[93,240,335,405,440,510,null,null,null,69,117.5,165,200,215,265]
[105,252.5,352.5,430,465,530,null,null,null,76,122.5,170,207.5,225,280]
[120,272.5,380,462.5,500,560,null,null,null,84,130,182.5,220,240,295]
["120 +",292.5,407.5,495,527.5,600,null,null,null,"84 +",140,195,235,255,305]
[null,"les performances inferieures au niveau régionale sont classées par défaut comme niveau départemental"]
["M3 masculin",null,null,null,null,null,null,null,null,"M3 féminine"]
["Catég.","R3","R2","R1","N2","N1",null,null,null,"Catég.","R3","R2","R1","N2","N1"]
[59,127.5,177.5,215,237.5,280,null,null,null,47,82.5,115,140,152.5,180]
[66,150,207.5,252.5,275,320,null,null,null,52,90,125,152.5,165,190]
[74,170,240,290,320,340,null,null,null,57,95,132.5,162.5,177.5,200]
[83,192.5,270,327.5,350,370,null,null,null,63,100,140,170,182.5,210]
[93,212.5,297.5,362.5,385,420,null,null,null,69,105,145,177.5,192.5,225]
[105,222.5,312.5,380,410,440,null,null,null,76,110,152.5,185,200,240]
[120,242.5,340,412.5,440,470,null,null,null,84,115,160,195,212.5,255]
["120 +",260,362.5,440,470,510,null,null,null,"84 +",125,172.5,210,227.5,270]
[null,"les performances inferieures au niveau régionale sont classées par défaut comme niveau départemental"]
["M4 masculin",null,null,null,null,null,null,null,null,"M4 féminine"]
["Catég.","R3","R2","R1","N2","N1",null,null,null,"Catég.","R3","R2","R1","N2","N1"]
[59,95,132.5,162.5,180,220,null,null,null,47,62.5,87.5,105,115,150]
[66,112.5,155,190,207.5,250,null,null,null,52,67.5,95,115,125,160]
[74,127.5,177.5,217.5,235,280,null,null,null,57,72.5,100,120,132.5,170]
[83,145,202.5,245,265,310,null,null,null,63,75,105,125,135,180]
[93,160,222.5,270,292.5,330,null,null,null,69,77.5,110,132.5,145,190]
[105,167.5,235,285,312.5,360,null,null,null,76,82.5,115,140,152.5,200]
[120,180,255,310,337.5,375,null,null,null,84,87.5,120,147.5,160,210]
["120 +",195,272.5,332.5,360,390,null,null,null,"84 +",92.5,130,157.5,170,220]

{"sheet":"Niv PL","index":3,"n_rows":57,"n_cols":17,"rows_kept":57,"cut":false,"hidden":false,"merged":[[0,0,0,11],[1,0,1,11],[3,3,3,7],[3,9,3,12],[3,13,3,16],[3,0,3,2],[14,0,14,4],[25,0,25,4],[36,0,36,4],[47,0,47,4],[25,9,25,13],[36,9,36,13],[14,9,14,13],[47,9,47,13]]}
["NIVEAUX POWER LIFTING"]
["A la date du 13 Novembre 2025"]
[null,"les performances inferieures au niveau régionale sont classées par défaut comme niveau départemental"]
["JR masculin",null,null,"SNR masculin",null,null,null,null,null,"JR féminine",null,null,null,"SNR féminine"]
["Catég.","R3","R2","R1","N2","N1","Europe","Monde",null,"Catég.","R3","R2","R1","N2","N1","Europe","Monde"]
[59,235,327.5,397.5,432.5,472.5,600,620,null,47,137.5,192.5,232.5,262.5,285,400,430]
[66,275,385,465,532.5,572.5,670,700,null,52,150,210,255,312.5,342.5,440,470]
[74,307.5,425,520,612.5,642.5,770,790,null,57,162.5,225,275,342.5,372.5,480,500]
[83,322.5,452.5,550,672.5,702.5,820,840,null,63,172.5,240,292.5,362.5,392.5,510,530]
[93,342.5,477.5,580,692.5,727.5,870,900,null,69,180,252.5,305,372.5,402.5,540,570]
[105,362.5,507.49999999999994,615,717.5,742.5,930,960,null,76,190,267.5,322.5,377.5,412.5,560,590]
[120,375,525,635,737.5,767.5,970,1000,null,84,197.5,277.5,335,387.5,425,570,600]
["120 +",385,540,655,782.5,802.5,1000,1015,null,"84+",200,280,340,392.5,430,580,610]
[null,"les performances inferieures au niveau régionale sont classées par défaut comme niveau départemental"]
["M1 masculin",null,null,null,null,null,null,null,null,"M1 féminine"]
["Catég.","R3","R2","R1","N2","N1",null,null,null,"Catég.","R3","R2","R1","N2","N1"]
[59,190,265,320,{"$f":"F17-10","v":367.5},377.5,null,null,null,47,112.5,160,192.5,{"$f":"O17-10","v":217.5},227.5]
[66,225,315,380,{"$f":"F18-10","v":437.5},447.5,null,null,null,52,122.5,172.5,210,{"$f":"O18-10","v":237.5},247.5]
[74,245,345,415,{"$f":"F19-15","v":475},490,null,null,null,57,132.5,185,225,{"$f":"O19-15","v":250},265]
[83,275,385,470,{"$f":"F20-15","v":537.5},552.5,null,null,null,63,135,190,230,{"$f":"O20-15","v":255},270]
[93,292.5,410,497.5,{"$f":"F21-20","v":565},585,null,null,null,69,140,197.5,237.5,{"$f":"O21-20","v":260},280]
[105,307.5,430,522.5,{"$f":"F22-20","v":595},615,null,null,null,76,142.5,202.5,245,{"$f":"O22-20","v":267.5},287.5]
[120,317.5,445,540,{"$f":"F23-25","v":610},635,null,null,null,84,152.5,212.5,257.5,{"$f":"O23-25","v":277.5},302.5]
["120 +",340,475,577.5,{"$f":"F24-30","v":650},680,null,null,null,"84 +",162.5,225,275,{"$f":"O24-30","v":292.5},322.5]
[null,"les performances inferieures au niveau régionale sont classées par défaut comme niveau départemental"]
["M2 masculin",null,null,null,null,null,null,null,null,"M2 féminine"]
["Catég.","R3","R2","R1","N2","N1",null,null,null,"Catég.","R3","R2","R1","N2","N1"]
[59,170,237.5,290,{"$f":"F28-10","v":330},340,null,null,null,47,102.5,142.5,175,{"$f":"O28-10","v":195},205]
[66,202.5,280,342.5,{"$f":"F29-10","v":392.5},402.5,null,null,null,52,112.5,155,190,{"$f":"O29-10","v":212.5},222.5]
[74,220,310,375,{"$f":"F30-15","v":427.5},442.5,null,null,null,57,120,167.5,202.5,{"$f":"O30-15","v":225},240]
[83,250,350,422.5,{"$f":"F31-15","v":482.5},497.5,null,null,null,63,122.5,170,207.5,{"$f":"O31-15","v":227.5},242.5]
[93,262.5,367.5,445,{"$f":"F32-20","v":505},525,null,null,null,69,125,175,212.5,{"$f":"O32-20","v":230},250]
[105,277.5,390,472.5,{"$f":"F33-20","v":535},555,null,null,null,76,130,180,217.5,{"$f":"O33-20","v":237.5},257.5]
[120,285,400,485,{"$f":"F34-25","v":547.5},572.5,null,null,null,84,137.5,190,232.5,{"$f":"O34-25","v":247.5},272.5]
["120 +",305,427.5,520,{"$f":"F35-30","v":582.5},612.5,null,null,null,"84 +",145,202.5,247.5,{"$f":"O35-30","v":260},290]
[null,"les performances inferieures au niveau régionale sont classées par défaut comme niveau départemental"]
["M3 masculin",null,null,null,null,null,null,null,null,"M3 féminine"]
["Catég.","R3","R2","R1","N2","N1",null,null,null,"Catég.","R3","R2","R1","N2","N1"]
[59,150,212.5,257.5,{"$f":"F39-10","v":292.5},302.5,null,null,null,47,90,127.5,155,{"$f":"O39-10","v":172.5},182.5]
[66,177.5,250,302.5,{"$f":"F40-10","v":347.5},357.5,null,null,null,52,100,140,167.5,{"$f":"O40-10","v":187.5},197.5]
[74,197.5,275,332.5,{"$f":"F41-15","v":377.5},392.5,null,null,null,57,107.5,147.5,180,{"$f":"O41-15","v":197.5},212.5]
[83,220,310,375,{"$f":"F42-15","v":427.5},442.5,null,null,null,63,110,152.5,185,{"$f":"O42-15","v":202.5},217.5]
[93,232.5,327.5,397.5,{"$f":"F43-20","v":447.5},467.5,null,null,null,69,112.5,157.5,190,{"$f":"O43-20","v":205},225]
[105,245,345,417.5,{"$f":"F44-20","v":472.5},492.5,null,null,null,76,115,160,195,{"$f":"O44-20","v":210},230]
[120,255,355,430,{"$f":"F45-25","v":482.5},507.5,null,null,null,84,120,170,207.5,{"$f":"O45-25","v":217.5},242.5]
["120 +",272.5,380,462.5,{"$f":"F46-30","v":515},545,null,null,null,"84 +",127.5,180,217.5,{"$f":"O46-30","v":227.5},257.5]
[null,"les performances inferieures au niveau régionale sont classées par défaut comme niveau départemental"]
["M4 masculin",null,null,null,null,null,null,null,null,"M4 féminine"]
["Catég.","R3","R2","R1","N2","N1",null,null,null,"Catég.","R3","R2","R1","N2","N1"]
[59,112.5,160,192.5,{"$f":"F50-10","v":217.5},227.5,null,null,null,47,67.5,97.5,115,{"$f":"O50-10","v":127.5},137.5]
[66,132.5,187.5,227.5,{"$f":"F51-10","v":257.5},267.5,null,null,null,52,72.5,102.5,125,{"$f":"O51-10","v":137.5},147.5]
[74,147.5,205,250,{"$f":"F52-15","v":280},295,null,null,null,57,80,112.5,135,{"$f":"O52-15","v":145},160]
[83,165,230,280,{"$f":"F53-15","v":315},330,null,null,null,63,82.5,115,137.5,{"$f":"O53-15","v":147.5},162.5]
[93,175,244.99999999999997,297.5,{"$f":"F54-20","v":330},350,null,null,null,69,85,117.5,142.5,{"$f":"O54-15","v":152.5},167.5]
[105,185,260,315,{"$f":"F55-20","v":350},370,null,null,null,76,87.5,120,145,{"$f":"O55-15","v":157.5},172.5]
[120,190,267.5,322.5,{"$f":"F56-25","v":355},380,null,null,null,84,92.5,127.5,155,{"$f":"O56-20","v":162.5},182.5]
["120 +",202.5,285,345,{"$f":"F57-30","v":377.5},407.5,null,null,null,"84 +",97.5,137.5,165,{"$f":"O57-20","v":175},195]

{"sheet":"Cat. d'âge","index":4,"n_rows":92,"n_cols":13,"rows_kept":92,"cut":false,"hidden":false,"merged":[[0,0,0,4],[2,0,2,1],[2,3,2,4],[0,6,0,10],[2,6,2,7],[2,9,2,10]]}
["Catégories d'âge valables à partir du 01/01/2025 et jusqu'au 31/12/2025",null,null,null,null,null,"Catégories d'âge valables à partir du 01/01/2026 et jusqu'au 31/12/2027"]
[]
["Catégories d'âge Homme/Femme FA",null,null,"Catégories d'âge Homme/Femme PL",null,null,"Catégories d'âge Homme/Femme FA",null,null,"Catégories d'âge Homme/Femme PL",null,null,"LIGUES"]
["Année de naissance","Catégorie",null,"Année de naissance","Catégorie",null,"Année de naissance","Catégorie",null,"Année de naissance","Catégorie"]
["2016-01-01","INTERDIT",null,"2016-01-01","INTERDIT",null,"2016-01-01","INTERDIT",null,"2016-01-01","INTERDIT",null,"AUVERGNE   RHONE-ALPES"]
["2015-01-01","INTERDIT",null,"2015-01-01","INTERDIT",null,"2015-01-01","INTERDIT",null,"2015-01-01","INTERDIT",null,"BOURGOGNE  FRANCHE-COMTE"]
["2014-01-01","INTERDIT",null,"2014-01-01","INTERDIT",null,"2014-01-01","INTERDIT",null,"2014-01-01","INTERDIT",null,"BRETAGNE"]
["2013-01-01","INTERDIT",null,"2013-01-01","INTERDIT",null,"2013-01-01","INTERDIT",null,"2013-01-01","INTERDIT",null,"CENTRE-VAL DE LOIRE"]
["2012-01-01","INTERDIT",null,"2012-01-01","INTERDIT",null,"2012-01-01","SJR",null,"2012-01-01","INTERDIT",null,"CORSE"]
["2011-01-01","SJR",null,"2011-01-01","INTERDIT",null,"2011-01-01","SJR",null,"2011-01-01","INTERDIT",null,"GRAND EST"]
["2010-01-01","SJR",null,"2010-01-01","INTERDIT",null,"2010-01-01","SJR",null,"2010-01-01","INTERDIT",null,"GUADELOUPE"]
["2009-01-01","SJR",null,"2009-01-01","INTERDIT",null,"2009-01-01","SJR",null,"2009-01-01","INTERDIT",null,"GUYANE"]
["2008-01-01","SJR",null,"2008-01-01","INTERDIT",null,"2008-01-01","SJR",null,"2008-01-01","INTERDIT",null,"HAUTS DE France "]
["2007-01-01","SJR",null,"2007-01-01","INTERDIT",null,"2007-01-01","JR",null,"2007-01-01","JR",null,"ILE DE France"]
["2006-01-01","JR",null,"2006-01-01","JR",null,"2006-01-01","JR",null,"2006-01-01","JR",null,"La REUNION"]
["2005-01-01","JR",null,"2005-01-01","JR",null,"2005-01-01","JR",null,"2005-01-01","JR",null,"LIGERIENNE"]
["2004-01-01","JR",null,"2004-01-01","JR",null,"2004-01-01","JR",null,"2004-01-01","JR",null,"MARTINIQUE"]
["2003-01-01","JR",null,"2003-01-01","JR",null,"2003-01-01","JR",null,"2003-01-01","JR",null,"MAYOTTE"]
["2002-01-01","JR",null,"2002-01-01","JR",null,"2002-01-01","SNR",null,"2002-01-01","SNR",null,"NOUVELLE AQUITAINE"]
["2001-01-01","SNR",null,"2001-01-01","SNR",null,"2001-01-01","SNR",null,"2001-01-01","SNR",null,"NOUVELLE CALEDONIE"]
["2000-01-01","SNR",null,"2000-01-01","SNR",null,"2000-01-01","SNR",null,"2000-01-01","SNR",null,"NORMANDIE"]
["1999-01-01","SNR",null,"1999-01-01","SNR",null,"1999-01-01","SNR",null,"1999-01-01","SNR",null,"OCCITANIE"]
["1998-01-01","SNR",null,"1998-01-01","SNR",null,"1998-01-01","SNR",null,"1998-01-01","SNR",null,"POLYNESIE FRANCAISE"]
["1997-01-01","SNR",null,"1997-01-01","SNR",null,"1997-01-01","SNR",null,"1997-01-01","SNR",null,"PROVENCE ALPES COTE D AZUR"]
["1996-01-01","SNR",null,"1996-01-01","SNR",null,"1996-01-01","SNR",null,"1996-01-01","SNR",null,"ST PIERRE ET MIQUELON"]
["1995-01-01","SNR",null,"1995-01-01","SNR",null,"1995-01-01","SNR",null,"1995-01-01","SNR"]
["1994-01-01","SNR",null,"1994-01-01","SNR",null,"1994-01-01","SNR",null,"1994-01-01","SNR"]
["1993-01-01","SNR",null,"1993-01-01","SNR",null,"1993-01-01","SNR",null,"1993-01-01","SNR"]
["1992-01-01","SNR",null,"1992-01-01","SNR",null,"1992-01-01","SNR",null,"1992-01-01","SNR"]
["1991-01-01","SNR",null,"1991-01-01","SNR",null,"1991-01-01","SNR",null,"1991-01-01","SNR"]
["1990-01-01","SNR",null,"1990-01-01","SNR",null,"1990-01-01","SNR",null,"1990-01-01","SNR"]
["1989-01-01","SNR",null,"1989-01-01","SNR",null,"1989-01-01","SNR",null,"1989-01-01","SNR"]
["1988-01-01","SNR",null,"1988-01-01","SNR",null,"1988-01-01","SNR",null,"1988-01-01","SNR"]
["1987-01-01","SNR",null,"1987-01-01","SNR",null,"1987-01-01","SNR",null,"1987-01-01","SNR"]
["1986-01-01","SNR",null,"1986-01-01","SNR",null,"1986-01-01","M1",null,"1986-01-01","M1"]
["1985-01-01","M1",null,"1985-01-01","M1",null,"1985-01-01","M1",null,"1985-01-01","M1"]
["1984-01-01","M1",null,"1984-01-01","M1",null,"1984-01-01","M1",null,"1984-01-01","M1"]
["1983-01-01","M1",null,"1983-01-01","M1",null,"1983-01-01","M1",null,"1983-01-01","M1"]
["1982-01-01","M1",null,"1982-01-01","M1",null,"1982-01-01","M1",null,"1982-01-01","M1"]
["1981-01-01","M1",null,"1981-01-01","M1",null,"1981-01-01","M1",null,"1981-01-01","M1"]
["1980-01-01","M1",null,"1980-01-01","M1",null,"1980-01-01","M1",null,"1980-01-01","M1"]
["1979-01-01","M1",null,"1979-01-01","M1",null,"1979-01-01","M1",null,"1979-01-01","M1"]
["1978-01-01","M1",null,"1978-01-01","M1",null,"1978-01-01","M1",null,"1978-01-01","M1"]
["1977-01-01","M1",null,"1977-01-01","M1",null,"1977-01-01","M1",null,"1977-01-01","M1"]
["1976-01-01","M1",null,"1976-01-01","M1",null,"1976-01-01","M2",null,"1976-01-01","M2"]
["1975-01-01","M2",null,"1975-01-01","M2",null,"1975-01-01","M2",null,"1975-01-01","M2"]
["1974-01-01","M2",null,"1974-01-01","M2",null,"1974-01-01","M2",null,"1974-01-01","M2"]
["1973-01-01","M2",null,"1973-01-01","M2",null,"1973-01-01","M2",null,"1973-01-01","M2"]
["1972-01-01","M2",null,"1972-01-01","M2",null,"1972-01-01","M2",null,"1972-01-01","M2"]
["1971-01-01","M2",null,"1971-01-01","M2",null,"1971-01-01","M2",null,"1971-01-01","M2"]
["1970-01-01","M2",null,"1970-01-01","M2",null,"1970-01-01","M2",null,"1970-01-01","M2"]
["1969-01-01","M2",null,"1969-01-01","M2",null,"1969-01-01","M2",null,"1969-01-01","M2"]
["1968-01-01","M2",null,"1968-01-01","M2",null,"1968-01-01","M2",null,"1968-01-01","M2"]
["1967-01-01","M2",null,"1967-01-01","M2",null,"1967-01-01","M2",null,"1967-01-01","M2"]
["1966-01-01","M2",null,"1966-01-01","M2",null,"1966-01-01","M3",null,"1966-01-01","M3"]
["1965-01-01","M3",null,"1965-01-01","M3",null,"1965-01-01","M3",null,"1965-01-01","M3"]
["1964-01-01","M3",null,"1964-01-01","M3",null,"1964-01-01","M3",null,"1964-01-01","M3"]
["1963-01-01","M3",null,"1963-01-01","M3",null,"1963-01-01","M3",null,"1963-01-01","M3"]
["1962-01-01","M3",null,"1962-01-01","M3",null,"1962-01-01","M3",null,"1962-01-01","M3"]
["1961-01-01","M3",null,"1961-01-01","M3",null,"1961-01-01","M3",null,"1961-01-01","M3"]
["1960-01-01","M3",null,"1960-01-01","M3",null,"1960-01-01","M3",null,"1960-01-01","M3"]
["1959-01-01","M3",null,"1959-01-01","M3",null,"1959-01-01","M3",null,"1959-01-01","M3"]
["1958-01-01","M3",null,"1958-01-01","M3",null,"1958-01-01","M3",null,"1958-01-01","M3"]
["1957-01-01","M3",null,"1957-01-01","M3",null,"1957-01-01","M3",null,"1957-01-01","M3"]
["1956-01-01","M3",null,"1956-01-01","M3",null,"1956-01-01","M4",null,"1956-01-01","M4"]
["1955-01-01","M4",null,"1955-01-01","M4",null,"1955-01-01","M4",null,"1955-01-01","M4"]
["1954-01-01","M4",null,"1954-01-01","M4",null,"1954-01-01","M4",null,"1954-01-01","M4"]
["1953-01-01","M4",null,"1953-01-01","M4",null,"1953-01-01","M4",null,"1953-01-01","M4"]
["1952-01-01","M4",null,"1952-01-01","M4",null,"1952-01-01","M4",null,"1952-01-01","M4"]
["1951-01-01","M4",null,"1951-01-01","M4",null,"1951-01-01","M4",null,"1951-01-01","M4"]
["1950-01-01","M4",null,"1950-01-01","M4",null,"1950-01-01","M4",null,"1950-01-01","M4"]
["1949-01-01","M4",null,"1949-01-01","M4",null,"1949-01-01","M4",null,"1949-01-01","M4"]
["1948-01-01","M4",null,"1948-01-01","M4",null,"1948-01-01","M4",null,"1948-01-01","M4"]
["1947-01-01","M4",null,"1947-01-01","M4",null,"1947-01-01","M4",null,"1947-01-01","M4"]
["1946-01-01","M4",null,"1946-01-01","M4",null,"1946-01-01","M4",null,"1946-01-01","M4"]
["1945-01-01","M4",null,"1945-01-01","M4",null,"1945-01-01","M4",null,"1945-01-01","M4"]
["1944-01-01","M4",null,"1944-01-01","M4",null,"1944-01-01","M4",null,"1944-01-01","M4"]
["1943-01-01","M4",null,"1943-01-01","M4",null,"1943-01-01","M4",null,"1943-01-01","M4"]
["1942-01-01","M4",null,"1942-01-01","M4",null,"1942-01-01","M4",null,"1942-01-01","M4"]
["1941-01-01","M4",null,"1941-01-01","M4",null,"1941-01-01","M4",null,"1941-01-01","M4"]
["1940-01-01","M4",null,"1940-01-01","M4",null,"1940-01-01","M4",null,"1940-01-01","M4"]
["1939-01-01","M4",null,"1939-01-01","M4",null,"1939-01-01","M4",null,"1939-01-01","M4"]
["1938-01-01","M4",null,"1938-01-01","M4",null,"1938-01-01","M4",null,"1938-01-01","M4"]
["1937-01-01","M4",null,"1937-01-01","M4",null,"1937-01-01","M4",null,"1937-01-01","M4"]
["1936-01-01","M4",null,"1936-01-01","M4",null,"1936-01-01","M4",null,"1936-01-01","M4"]
["1935-01-01","M4",null,"1935-01-01","M4",null,"1935-01-01","M4",null,"1935-01-01","M4"]
["1934-01-01","M4",null,"1934-01-01","M4",null,"1934-01-01","M4",null,"1934-01-01","M4"]
["1933-01-01","M4",null,"1933-01-01","M4",null,"1933-01-01","M4",null,"1933-01-01","M4"]
["1932-01-01","M4",null,"1932-01-01","M4",null,"1932-01-01","M4",null,"1932-01-01","M4"]
["1931-01-01","M4",null,"1931-01-01","M4",null,"1931-01-01","M4",null,"1931-01-01","M4"]
["1930-01-01","M4",null,"1930-01-01","M4",null,"1930-01-01","M4",null,"1930-01-01","M4"]
["1929-01-01","M4",null,"1929-01-01","M4",null,"1929-01-01","M4",null,"1929-01-01","M4"]

{"sheet":"Records_FA_F","index":5,"n_rows":61,"n_cols":14,"rows_kept":61,"cut":false,"hidden":false,"merged":[[0,0,0,13],[1,0,2,1],[1,5,1,7],[1,8,1,10],[1,11,1,13]]}
["Records FA Femmes"]
["Catégorie",null,"Squat",null,null,"Développé-Couché",null,null,"Soulevé de Terre",null,null,"TOTAL"]
[null,null,"Athlète","Poids","Date","Athlète","Poids","Date","Athlète","Poids","Date","Athlète","Poids","Date"]
["-43kg","Subjunior","Serneels Lisa",78.5,"2025 Villenave d'Ornon (Fr)","Serneels Lisa",52,"2025 Villenave d'Ornon(Fr)","Serneels Lisa",115,"202 Villenave d'ornon (Fr)","Serneels Lisa ",245.5,"2025 Villenave d'Ornon (Fr)"]
["-43kg","Junior","Trinquart Flavie",102.5,"2025 Villenave d'Ornon (Fr)","Hernandez Loïcia",65.5,"2025 Villenave d'Ornon (Fr)","Trinquart Flavie",128.5,"2025 Villenave d'Ornon (Fr)","Hernandez Loïcia",288.5,"2025 Villenave d'ornon"]
["-47kg","Subjunior","Chansard Lucie",105,"2024 st paul's bay (Malte)","Durand Andrea",65,2012,"Chansard Lucie",132.5,"2024 Villepinte (Fr)","Durand Andrea",292.5,2012]
["-47kg","Junior","Chapon Tiffany",165.5,"2024 Druskininkai (Lit)","Chapon Tiffany",101.5,"2024 Le Crés (Fr)","Stellato Maevane",173,"2024 Villepinte (Fr)","Chapon Tiffany",433,"2024 Druskininkai (Lit)"]
["-47kg","Open","Chapon Tiffany",165.5,"2024 Druskininkai (Lit)","Chapon Tiffany",102,"2025 Chemnitz (Ger)","Stellato Maevane",173,"2024 Villepinte (Fr)","Chapon Tiffany",434.5,"2025 Chemnistz (Ger)"]
["-47kg","Master1","Legard Stephanie",125,"2022 Albi (Fr)","Legard Stephanie",80,"2022 Albi (Fr)","Legard Stephanie",155.5,"2022 Aulnat (Fr)","Legard Stephanie",360,"2022 Albi (Fr)"]
["-47kg","Master2","Feraud Nathalie",97.5,2018,"Feraud Nathalie",70,2019,"Feraud Nathalie",127.5,2019,"Feraud Nathalie",292.5,2019]
["-47kg","Master3","Dutrillaux Marie Claude",67.5,2015,"Dutrillaux Marie Claude",43,2016,"Dutrillaux Marie Claude",95,2015,"Dutrillaux Marie Claude",205,2015]
["-47kg","Master4"]
["-52kg","Subjunior","Olivier cassandre",139.5,"2025 Villenave d'Ornon (Fr)","Olivier Cassandre",92.5,"2025 Costa Rica (Cr)","Olivier Cassandre",163,"2025 Villenave d'ornon (Fr)","Olivier Cassandre",393,"2025 Costa Rica (CR)"]
["-52kg","Junior","Chapon Tiffany",165.5,"2022 st germain en lay(fr)","Chapon Tiffany",95,"2022 st germain en lay(fr)","Hadrys Camille",183,"2023 Cluj Napoca (Ro)","Chapon Tiffany",430.5,"2022 st germain en lay(fr)"]
["-52kg","Open","Allabert Noemie",171.5,"2023 Sheffield (UK)","Chapon Tiffany",107.5,"2025 Chengdu ( Chn)","Allabert Noemie",200,"2023 St.Julians (Malta)","Allabert Noemie",454,"2023 Sheffield (UK)"]
["-52kg","Master1","Cabral Angela",125,"2025 Albi (Fr)","Bouvard Marianne",72.5,2019,"Cabral Angela",157.5,"2025 Albi (Fr)","Cabral Angela",355,"2025 Albi (Fr)"]
["-52kg","Master2","Feraud Nathalie",107.5,"2020 Albi (Fr)","Verlaine Geraldine",73,"2025 Loos (Fr)","Feraud Nathalie",132.5,"2020 Albi (Fr)","Feraud Nathalie",312.5,"2020 Albi (Fr)"]
["-52kg","Master3","Dutrillaux Marie Claude",80,2018,"Dutrillaux Marie Claude",44,2018,"Dutrillaux Marie Claude",106,2018,"Dutrillaux Marie Claude",230,2018]
["-52kg","Master4"]
["-57kg","Subjunior","Vu Van Maeva",145,"2025 Vllenave d'Ornon (Fr)","Paquin Erine",78.5,"2025 Villenave d'Ornon (Fr)","De Fuentes Dafnée",170.5,"2025 Villenave d'Ornon (Fr)","Gaillard Lilou",380,"2025 Villenave d'Ornon (Fr)"]
["-57kg","Junior","Jacob Jade",188,"2024 Sheffield (UK)","Jacob Jade",100,"2022 Skierniewice (Pol)","Jacob Jade",231.5,"2024 Sheffield (UK)","Jacob Jade",519.5,"2024 Sheffield (UK)"]
["-57kg","Open","Jacob Jade",188,"2024 Sheffield (UK)","Huet Alison",108,"2024 Le Crés (Fr)","Jacob Jade",231.5,"2024 Sheffield (UK)","Jacob Jade",519.5,"2024 Sheffield (UK)"]
["-57kg","Master1","Cabral Angela",130,"2025 Loos (Fr)","Carion Stephanie",77.5,2019,"Cabral Angela",165,"2025 Loos (Fr)","Cabral Angela",370,"2025 Loos (Fr)"]
["-57kg","Master2","Feraud Nathalie",111.5,"2022 beuzeville (F)","Pracella Marie-Christine",92.5,2018,"Guennec Edith",150,2015,"Cabos Marie France",321,2019]
["-57kg","Master3","Guennec Edith",110,2016,"Grouet Molling Lydie",60.5,"2024 Blanquefort (F)","Guennec Edith",155.5,2017,"Guennec Edith",315.5,2016]
["-57kg","Master4"]
["-63kg","Subjunior","Eugenie Samantha",160,"2019 Kaunas (lit)","Vautey Marie",88,"2025 Villenave d'Ornon","Vautey Marie ",190.5,"2025 Villenave d'Ornon (Fr)","Eugenie Samantha",435,"2019 Kaunas (lit)"]
["-63kg","Junior","Delos Ludivine",195,"2023 Nancy (FR)","Peltret Marine",110,"2024 Le Crés (Fr)","Jacob Jade",232,"2024 Villepinte (fr)","Jacob Jade",512,"2024 Villepinte (FR)"]
["-63kg","Open","Bavoil Prescillia",214,"2025 Shieffield (UK)","Bavoil Prescillia",117.5,"2025 Shieffield (UK)","Jacob Jade",232,"2024 Villepinte (Fr)","Bavoil Prescillia",567.5,"2024 Druskininkai (Lit)"]
["-63kg","Master1","Fabre Isabelle",142.5,"2025 Loos (Fr)","Carion Stephanie",88,2017,"Bernard Anne",167.5,"2025 Cape Town (SA)","Fabre Isabelle",365,"2025 Loos (Fr)"]
["-63kg","Master2","Girot Noemie",145,"2025 Loos (Fr)","Girot Noemie",90,"2025 Cape Town (SA)","Girot Noemie",182.5,"2025 Cape Town (SA)","Girot Noemie",417.5,"2025 Cape Town (SA)"]
["-63kg","Master3","Guennec Edith",107.5,"2020 Albi (Fr)","Blondan Daisy",72.5,2019,"Guennec Edith",157.5,"2020 Albi (Fr)","Guennec Edith",320,"2020 Albi (Fr)"]
["-63kg","Master4"]
["-69kg","Subjunior","Bouvier Elise ",170,"2024 st paul's bay (Malte)","Grancoin Eliza",90.5,"2025 Villenave d'Ornon (Fr)","Camilli Clemence",181,"2025 Villenave d'Ornon (Fr)","Bouvier Elise",440,"2024 Pilsen (Cze)"]
["-69kg","Junior","Bouchoux Andorina",202.5,"2025 Malaga (Sp)","Peyraud Clara",120,"2023 St.Julians (Malta)","Peyraud Clara",237.5,"2023 Tartu (Est)","Bouchoux Andorina",547.5,"2025 Malaga (Sp)"]
["-69kg","Open","Bavoil Prescillia",225,"2024 Sheffield (UK)","Bavoil Prescillia",125,"2024 Druskininkai (Lit)","Peyraud Clara",237.5,"2023 Tartu (Est)","Bavoil Prescillia",585,"2024 Sheffield (UK)"]
["-69kg","Master1","Clavier Emilie",162.5,"2025 Albi (Fr)","Clavier Emilie",100,"2024 Le Crés (Fr)","Clavier Emilie",197.5,"2025 Albi (Fr)","Clavier Emilie",460,"2025 Albi (Fr)"]
["-69kg","Master2","Leccese Florence",135,"2024 Malaga (Es)","Leccese Florence",80,"2025 Cap Town(SA)","Descours Veronique",150,"2022 Beuzeville (F)","Leccese Florence",342.5,"2024 Sun City (SA)"]
["-69kg","Master3","Laure Katia",97.5,"2025 Loos (Fr)","Blondan Daisy",70,"2021 Pilsen (rc)","Blondan Daisy",130,"2023 Puy en Velay (Fr)","Blondan Daisy",295,"2023 Puy en Velay (Fr)"]
["-69kg","Master4","Billard Regine",70,"2025 Albi (Fr)","Billard Regine",35,"2025 Albi (Fr)","Billard Regine",105,"2025 Albi (Fr)","Billard Regine",210,"2025 Albi (Fr)"]
["-76kg","Subjunior","Bonneau-Abram Ambre",172.5,"2025 Villenave d'Ornon (Fr)","Turbe Agathe",87.5,"2024 st paul's bay (Malte)","Turbe Agathe",185,"2024 Villepinte (Fr)","Turbe Agathe",430,"2024 st paul's bay (Malte)"]
["-76kg","Junior","Mautalen Laura",200,"2022 Istanbul (Tu)","Mautalen Laura",145.5,"2022 Istanbul (Tu)","Peyraud Clara",242.5,"2024 Villepinte (FR)","Peyraud Clara",567.5,"2025 Malaga (Sp)"]
["-76kg","Open","Mautalen Laura",200,"2022 Istanbul (Tu)","Mautalen Laura",150,"2025 Chemnitz (Ger)","Peyraud Clara",242.5,"2024 Villepinte (FR)","Mautalen Laura",590,"2025 Chemnitz (Ger)"]
["-76kg","Master1","Afanou Tchada Rosemonde",142.5,"2024 Malaga (Es)","Alberti Stephanie",107.5,"2023 Puy en Velay (Fr)","Afanou Tchada Rosemonde",183,"2024 Blanquefort (F)","Afanou Tchada Rosemonde",388,"2024 Blanquefort (F)"]
["-76kg","Master2","Afanou Tchada Rosemonde",140,"2025 Albi (Fr)","Afanou Tchada Rosemonde",77.5,"2025 Albi (Fr)","Afanou Tchada Rosemonde",199,"2025 Albi (Fr)","Afanou Tchada Rosemonde",416.5,"2025 Albi (Fr)"]
["-76kg","Master3","Labat Framboise",117.5,"2025 Loos (Fr)","Labat Framboise",70,"2025 Loos (Fr)","Labat Framboise",155,"2025 Loos (Fr)","Labat Framboise",342.5,"2025 Loos (Fr)"]
["-76kg","Master4"]
["-84kg","Subjunior","Kelle Emma",120,"2024 Villepinte (Fr)","Kelle Emma",70,"2024 Villepinte (Fr)","Kelle Emma",135,"2024 Villepinte (Fr)","Kelle Emma",325,"2024 Villepinte (Fr)"]
["-84kg","Junior","Mouchet Emilie",208,"2025 Villenave d'Ornon (Fr)","Mouchet Emilie",135,"2025 CostaRica (Cr)","Mouchet Emilie",215,"2025 Costa Rica (Cr)","Mouchet Emilie",555,"2025 Costa Rica (Cr)"]
["-84kg","Open","Millecamps Kelly",215,"2022 Albi (Fr)","Mouchet Emilie",135,"2025 CostaRica (Cr)","Mouchet Emilie",215,"2025 Costa Rica (Cr)","Mouchet Emilie",555,"2025 Costa Rica (Cr)"]
["-84kg","Master1","Etienne Alba",155,"2025 Loos (Fr)","Faivre Stephanie",120,"2025 Loos (Fr)","Etienne Alba",182.5,"2025 Loos (Fr)","Etienne Alba",412.5,"2025 Loos (fr)"]
["-84kg","Master2","Collinot France",137.5,"2021 Beuzeville (fr)","Collinot France",75,"2021 Beuzeville (fr)","Collinot France",160,"2021 Beuzeville (fr)","Collinot France",372.5,"2021 Beuzeville (fr)"]
["-84kg","Master3","Lemarchand Joelle",90,"2025 Loos (Fr)","Lemarchand Joelle",55,"2025 Albi (Fr)","Lemarchand Joelle",110,"2025 Loos (Fr)","Lemarchand Joelle",255,"2025 Loos (Fr)"]
["-84kg","Master4"]
["+84kg","Subjunior","Letaief Rachelle",170,2018,"Kelle Emma",73,"2025 Villenave d'Ornon (Fr)","Letaief Rachelle",170,2018,"Letaief Rachelle",410,2018]
["+84kg","Junior","Mmadi  Salma",202.5,"2023 Budapest (Hu)","Mmadi  Salma",97.5,"2023 Granjska Gora (Sl)","Kranjska Gora",195,2019,"Mmadi  Salma",487.5,"2023 Budapest (Hu)"]
["+84kg","Open","Mierger Amelie",252.5,"2022 Skierniewice (Pol)","Mierger Amelie","166.5","2024 Druskininkai (Lit)","Mierger Amelie",240,"2022 Albi (Fr)","Mierger Amelie","651.5","2024 Druskininkai(Lit)"]
["+84kg","Master1",null,null,null,"Auclair Veronique",72.5,2016,"Auclair Veronique",127.5,2016]
["+84kg","Master2","Delande Sonia",120,"2025 Loos (Fr)","Auclair Veronique",70,2018,"Delande Sonia",145,"2025 Loos (Fr)","Delande Sonia",322.5,"2025 Loos (Fr)"]
["+84kg","Master3"]
["+84kg","Master4"]

{"sheet":"Records FA_H","index":6,"n_rows":61,"n_cols":14,"rows_kept":61,"cut":false,"hidden":false,"merged":[[0,0,0,13],[1,0,2,1],[1,5,1,7],[1,8,1,10],[1,11,1,13]]}
["Records FA Hommes"]
["Catégorie",null,"Squat",null,null,"Développé-Couché",null,null,"Soulevé de Terre",null,null,"TOTAL"]
[null,null,"Athlète","Poids","Date","Athlète","Poids","Date","Athlète","Poids","Date","Athlète","Poids","Date"]
["-53kg","Subjunior","Lamiot Nathan",157.5,"2024 Pilsen (Cze)","Duong Dinh Hy Allan",102.5,"2024 st paul's bay (Malte)","Duong Dinh Hy Allan",246.5,"2024 st paul's bay ( Malte)","Duong Dinh Hy Allan",496.5,"2024 st paul's bay (Malte)"]
["-53kg","Junior","Valette Killian",170,"2023 Budapest (Hu)","Dlile Jonas",110,"2024 Nancy (Fr)","Valette Killian",205,"2023 Budapest (Hu)","Valette Killian",482.5,"2023 Budapest (Hu)"]
["-59kg","Subjunior","Taron Adam",213,"2025 Villenave d'Ornon (Fr)","Taron Adam",128,"2025 Villenave d'Ornon (Fr)","Duong Dinh Hy Allan",286,"2025 Costa Rica (Cr)","Duong Dinh Hy Allan",586,"2025 Costa Rica (Cr)"]
["-59kg","Junior","Dupuy Noel Valentin",210,"2025 Costa Rica (Cr)","Dupuy Noel Valentin",142.5,"2025 Costa Rica (Cr)","Dupuy-Noel Valentin",270,"2025 Costa Rica (Cr)","Dupuy Noel Valentin",622.5,"2025 Costa Rica (Cr)"]
["-59kg","Open","Garcia Antoine",230,"2025 Chemnitz (Ger)","Dupuy Noel Valentin",142.5,"2025 Costa Rica (Cr)","Duong Dinh Hy Allan",286,"2025 Costa Rica (Cr)","Dupuy Noel Valentin",622.5,"2025 Costa Rica (Cr)"]
["-59kg","Master1","Rezaee Wiliam",177.5,"2025 Cape Town (SA)","Rezaee Wiliam",125,"2025 Cape Town (SA)","Chollet Florian",195,"2024 Blanquefort (F)","Rezaee Wiliam",482.5,"2025 Cape Town (SA)"]
["-59kg","Master2","Legard Patrick",162.5,2015,"Marigot Gilles",112.5,"2021 Beuzeville (fr)","Legard Patrick",170.5,2016,"Legard Patrick",417.5,2015]
["-59kg","Master3","Legard Patrick",130,2019,"Bonnefoy Jean",92.5,"2022 Beuzeville (F)","Bonnefoy Jean",165,"2022 Beuzeville (F)","Bonnefoy Jean",385,"2022 Beuzeville 'F)"]
["-59kg","Master4","Bonnefoy Jean",135,"2024 Malaga (Es)","Bonnefoy Jean",100.5,"2024 Blanquefort (F)","Bonnefoy Jean",165,"2024 Malaga (Es)","Bonnefoy Jean",395,"2024 Malaga (Es)"]
["-66kg","Subjunior","Gautier Etienne",215.5,"2024 Villepinte (Fr)","Benbachir Khaled",140,"2019 Helsingborg (Sw)","Vigneron Nathan",270.5,"2025 Costa Rica (Cr)","Vigneron Nathan",610.5,"2025 Costa Rica (Cr)"]
["-66kg","Junior","Cialdella Sacha",240.5,"2025 Villenave d'Ornon (Fr)","Vigouroux Brandon",162.5,"2021 Port la Nouvelle(fr)","Bruzzese Leoluca",287.5,"2025 Villenave d'Ornon (Fr)","Bruzzese Leoluca",653.5,"2025 Villenave d'Ornon (Fr)"]
["-66kg","Open","Tarinidis Panagiotis",252.5,"2021 Port la Nouvelle(fr)","Tarinidis Panagiotis",178,"2024 Le Crés (Fr)","El Belghitti Hassan",298,2019,"Tarinidis Panagiotis",713,"2024 Le Crés (Fr)"]
["-66kg","Master1","El Belghitti Hassan",220,2018,"Bernard Michael",155,2018,"El Belghitti Hassan",298,2019,"El Belghitti Hassan",655,2018]
["-66kg","Master2","Jouveaux Franck",200,"2024 Blanquefort (F)","Bernard Michael",145,"2020 Albi (Fr)","Jouveaux Franck",225,"2022 Albi (Fr)","Jouveaux Franck",532.5,"2022 Albi (Fr)"]
["-66kg","Master3","Auberval Georges",160,2018,"Houri Ahmed",110.5,"2025 Loos (Fr)","Cuvilier Alain",190,2017,"Bonnefoy Jean",425,2018]
["-66kg","Master4","Mahauda Gontran",127.5,2018,"Henry Marc",88,"2021 Beuzeville (fr)","Cuvilier Alain",167.5,"2025 Loos (Fr)","Mahauda Gontran",380.5,2018]
["-74kg","Subjunior","Daoudi Adam",243,"2023 Budapest (Hu)","Benbachir Khaled",165.5,"2019 Kaunas (lit)","Al Attiya Ethan",273,"2024 Villepinte (Fr)","Murand Antonin",642.5,"2025 Villenave d'Ornon (Fr)"]
["-74kg","Junior","Bertrand Balthazar",285,"2025 San Jose (CR)","Poyet Bastien",195,2016,"Sollima Enzo",308.5,"2025 Villenave d'Ornon (Fr)","Bertrand Balthazar",765,"2025 San Jose (CR)"]
["-74kg","Open","Bertrand Balthazar",285,"2025 San Jose (CR)","Poinson Adrien",210.5,2015,"Gaignet Guillaume",325.5,"2024 Le Crés (Fr)","Bertrand Balthazar",765,"2025 San Jose (CR)"]
["-74kg","Master1","El Belghitti Hassan",240,2015,"Halbot Vincent",150,2015,"El Belghitti Hassan",308.5,"2021 Port la Nouvelle(fr)","El Belghitti Hassan",695,2015]
["-74kg","Master2","Baali Kader",226,"2024 Malaga (Es)","Bernard Michael",155,"2022 Beuzeville (F)","Baali Kader",256.5,2019,"Baali Kader",626.5,2019]
["-74kg","Master3","Voisin Christian",207,2018,"Voisin Christian",133,2016,"Voisin Christian",222.5,2017,"Voisin Christian",555,2016]
["-74kg","Master4","Forget Bernard",160,2019,"Feraud Guylhem",110,2015,"Forget Bernard",200,2019,"Couturier Claude",445,"2022 Beuzeville 'F)"]
["-83kg","Subjunior","Baiden Richmond",247.5,2019,"Baiden Richmont",170.5,"2019 Kaunas (lit)","Baiden Richmont",285,"2019 Kaunas (lit)","Baiden Richmont",703,"2019 Kaunas (lit)"]
["-83kg","Junior","Daoudi Adam",284,"2025 Villenave d'Ornon (Fr)","Benbachir Khaled",192.5,"2024 Le Crés (Fr)","Eygonet Calixte",330,"2024 Le Crés (Fr)","Czaplicki Thomas",765.5,"2024 Nancy (Fr)"]
["-83kg","Open","Rembauville Paul",300,"2025 Malaga (Sp)"," Sahari Medhi",200,"2022 Albi (fr)","Bouchou Yanis",340,"2024 Birmingham (UK)","Bouchou Yanis",810,"2024 Birmingham (UK)"]
["-83kg","Master1","Lenglet Florent",256,"2025 Loos (Fr)","Lenglet Florent",183,"2024 Malaga (Es)","Razananjariny Julien",288,"2025 Loos (Fr)","Lenglet Florent",708.5,"2025 Loos (Fr)"]
["-83kg","Master2","Baali Kader",235,2018,"Houas Karim",162.5,"2025 Loos (Fr)","Baali Kader",265,2018,"Baali Kader",650,2018]
["-83kg","Master3","Taupe Laurent",212.5,"2025 Albi (Fr)","Taupe Laurent",143,"2025 Loos (Fr)","Richard Jacques",252.5,2015,"Taupe Laurent",587.5,"2025 Albi (Fr)"]
["-83kg","Master4","Vinot Jean Francois",171,"2021 Beuzeville (fr)","Naty Michel",120.5,"2025 (Fr)","Richard Jacques",230,2019,"Vinot Jean Francois",476,"2021 Beuzeville (fr)"]
["-93kg","Subjunior","Bernoussi Triolet Malik",282,"2022 Istanbul (Tu)","Bernoussi Triolet Malik",210,"2022 Skierniewice (Pol)","Galhaut Samuel",320.5,"2024 Pilsen (Cze)","Bernoussi Triolet Malik",800.5,"2022 Skierniewice (Pol)"]
["-93kg","Junior","Castillo Paco",307.5,"2025 Villenave d'Ornon (Fr)","Bernoussi Triolet Malik",228,"2025 Villenave d'Ornon (Fr)","Jean Marie Flore Guillaume",340,"2023 Le Crès (Fr)","Bernoussi Triolet Malik",840.5,"2025 Villenave d'Ornon (Fr)"]
["-93kg","Open","Baiden Richmond",310,"2025 Malaga (Sp)","Bernoussi Triolet Malik",228,"2025 Villenave d'Ornon (Fr)","Jean Marie Flore Guillaume",360,"2025 Chemnitz (Ger)","Baiden Richmond",850,"2025 Malaga (Sp)"]
["-93kg","Master1","Hupfer Sebastien",290,"2024 Le Crés (Fr)","Idier Julien",186,"2025 Loos (Fr)","Raymond Axel",295,"2024 Sun City (SA)","Raymond Axel ",742.5,"2024 Malaga (Es)"]
["-93kg","Master2","Houbre Fabrice",262.5,"2025 Albi (Fr)","Bertin Fabrice",170.5,"2022 Beuzeville (F)","Houbre Fabrice",270,"2025 Albi (Fr)","Houbre Fabrice",690,"2025 Albi (Fr)"]
["-93kg","Master3","Mauchosse Eric",245,2019,"Courtehoux Pierre",150,2017,"Mauchosse Eric",270,2018,"Mauchosse Eric",635,2019]
["-93kg","Master4","Buchs Christian",192.5,2017,"Mandou Eugene",112.5,2016,"Buchs Christian",222.5,2019,"Buchs Christian",517.5,2019]
["-105kg","Subjunior","Clement Corentin",292.5,2018,"Clement Corentin",184.5,2018,"Clement Corentin",324,2018,"Clement Corentin",796,2018]
["-105kg","Junior","Clement Corentin",332.5,"2022 Skierniewice (Pol)","Clement Corentin",210,"2021 Port la Nouvelle(fr)","Clement Corentin",365,"2021 Halmstad (sw)","Clement Corentin",895,"2021 Halmstad (sw)"]
["-105kg","Open","Clement Corentin",332.5,"2022 Skierniewice (Pol)","Tchandeu Noundou Eliam",215.5,"2024 Le Crés (Fr)","Clement Corentin",375,"2025 Malaga (Sp)","Clement Corentin",920,"2025 Malaga (Sp)"]
["-105kg","Master1","Nudant Xavier",260,"2024 Blanquefort (F)","Bouteiller Marc",200,2017,"Nudant Xavier",305,"2025 Cape Town (SA)","Nudant Xavier",745,"2025 Cape Town (SA)"]
["-105kg","Master2","Bahria Imad",263,"2025 Loos (Fr)","Boyer Roland",157.5,"2024 Blanquefort (F)","Boyer Roland",300,"2025 Loos (Fr","Boyer Roland",705,"2025 Loos(Fr)"]
["-105kg","Master3","Sicoli Adalgisio",235,"2025 Albi (Fr)","Merlier Pascal",152.5,2019,"Maes Patrick",260.5,"2021 Beuzeville (fr)","Sicoli Adalgisio",602.5,"2025 Albi (Fr)"]
["-105kg","Master4","Buchs Christian",213,2018,"Di Vuolo Guy",120,2016,"Buchs Christian",242.5,2017,"Buchs Christian",563,2018]
["-120kg","Subjunior","Le Turc Quentin",260,"2024 Villepinte (Fr)","Le Turc Quentin",145,"2024 Villepinte (Fr)","Le Turc Quentin",245,"2024 villepinte (Fr)","Le Turc Quentin",650,"2024 Villepinte (Fr)"]
["-120kg","Junior","Clement Corentin",330,2019,"Peyraud Nicolas",215,"2022 Istanbul (Tu)","Peyraud Nicolas",355,"2022 Skierniewice (Pol)","Peyraud Nicolas",895,"2022 Skierniewice (Pol)"]
["-120kg","Open","Peyraud Nicolas",343,"2024 Le Crés (Fr)","Vincent Benjy",225.5,"2024 Le Crés (Fr)","Peyraud Nicolas",380,"2025 Malaga (Sp)","Peyraud Nicolas",935.5,"2024 Le Crés (Fr)"]
["-120kg","Master1","Lazare Jacky",275,"2023 Le Puy en Velay (Fr)","Bonnay Dimitri",220,"2022 Beuzeville (F)","Loubidika Regis",297.5,"2022 Beuzeville (F)","Lazare Jacky",735,"2023 Le Puy en Velay (Fr)"]
["-120kg","Master2","Spitz Frederic",257.5,"2025 Albi (Fr)","Minelle Jean Yves",195,2016,"Hocquard Richard",280,2018,"Hocquard Richard",700,2018]
["-120kg","Master3","Sicoli Adalgisio",232.5,"2022 Beuzeville (F)","Billon Thierry",160,"2021 Beuzeville (fr)","Pinat Jean Claude",260,"2025 Albi (Fr)","Pinat Jean Claude",612.5,"2025 Loos (Fr)"]
["-120kg","Master4","Belmas Jean Paul",201,"2020 Albi (Fr)","Belmas Jean Paul",105,"2020 Albi (Fr)","Belmas Jean Paul",200,"2020 Albi (Fr)","Belmas Jean Paul",506,"2020 Albi (Fr)"]
["+120kg","Subjunior","Bogey Malone",235,2018,"Bogey Malone",155,2018,"Berdoll Antoine",260,"Villenave d'Ornon (Fr)","Bogey Malone",635,2018]
["+120kg","Junior","Clement Corentin",335,"2019 Barcelone (esp)","Bekkhaled Mehdi",210.5,"2025 Villenave d'Ornon (Fr)","Clement Corentin",325,"2019 Barcelone (esp)","Clement Corentin",870,"2019 Barcelone (esp)"]
["+120kg","Open","Odin Stanley",385,"2024 Le Crés (Fr)","Masse Romuald",257.5,"2021 Port la Nouvelle(fr)","Odin Stanley",385,"2023 Tartu (Est)","Odin Stanley",990,"2023 Tartu (Est)"]
["+120kg","Master1","Bonin Eric",275,2018,"Bonin Eric",210,2018,"Bonin Eric",278,2018,"Bonin Eric",755,2018]
["+120kg","Master2","Cottret David",226.5,"2025 Loos (Fr)","Chard Tony",180,2018,"Chard Tony",292.5,2018,"Chard Tony",687.5,2018]
["+120kg","Master3",null,null,null,"Sanchez Jean Francois",125,2015,"Sanchez Jean Francois",180,2015]
["+120kg","Master4"]

{"sheet":"Records PL_F","index":7,"n_rows":43,"n_cols":14,"rows_kept":43,"cut":false,"hidden":false,"merged":[[1,0,2,1],[1,5,1,7],[1,8,1,10],[1,11,1,13],[0,0,0,13]]}
["Records PL Femmes"]
["Catégorie",null,"Squat",null,null,"Développé-Couché",null,null,"Soulevé de Terre",null,null,"TOTAL"]
[null,null,"Athlète","Poids","Date","Athlète","Poids","Date","Athlète","Poids","Date","Athlète","Poids","Date"]
["-47kg","Open","Legard Stephanie",167.5,"2021 Stavanger (No)","Le Panse Benedicte",97.5,2013,"Legard Stephanie",165,"2022 Birmingham (US)","Legard Stephanie",427.5,"2021 Stavanger (  No)"]
["-47kg","Master1","Legard Stephanie",167.5,"2021 Stavanger (No)","Legard Stephanie",97.5,"2021 Stavanger (No)","Legard Stephanie",165,"2022 Birmingham (US)","Legard Stephanie",427.5,"2021 Stavanger (  No)"]
["-47kg","Master2","Feraud Nathalie",132.5,2018,"Feraud Nathalie",90,2018,"Feraud Nathalie",140,2018,"Feraud Nathalie",362.5,2018]
["-47kg","Master3"]
["-47kg","Master4"]
["-52kg","Open","Martin Vanessa",175,2016,"Martin Vanessa",102.5,2015,"Martin Vanessa",165,2016,"Martin Vanessa",440,2016]
["-52kg","Master1","Martin Vanessa",175,2016,"Martin Vanessa",100,2016,"Martin Vanessa",165,2016,"Martin Vanessa",440,2016]
["-52kg","Master2","Feraud Nathalie",142.5,"2020 Pontoise (Fr)","Feraud Nathalie",98,"2019 Potchefstroom(za)","Feraud Nathalie",147.5,"2019 Potchefstroom(za)","Feraud Nathalie",383,"2019 Potchefstroom(za)"]
["-52kg","Master3","Malicot Maryse",95,2015,"Jallais Marie Therese",57.5,2017,"Malicot Maryse",105,2014,"Malicot Maryse",245,2015]
["-52kg","Master4","Malicot Maryse",92.5,2016,"Malicot Maryse",47.5,2016,"Malicot Maryse",100,2016,"Malicot Maryse",230,2016]
["-57kg","Open","Sune Caroline",195,"2021 Pilsen (c r)","Anthouard Melodie",137.5,"2022 Pilsen (Rc)","Sune Caroline",180,"2021 Pilsen (Rc)","Anthouard Melodie",487.5,"2022 Pilsen (Rc)"]
["-57kg","Master1","Mingot Sylvie",150,2012,"Mingot Sylvie",115,2012,"Le Blevenec Nina",158,2017,"Mingot Sylvie",410,2012]
["-57kg","Master2","Cabos Marie France",140,2018,"Cabos Marie France",92.5,2018,"Guennec Edith",155,2014,"Cabos Marie France",377.5,2018]
["-57kg","Master3","Grouet Lydie",115,"2020 Pontoise (Fr)","Grouet Lydie",75,"2020 Pontoise (Fr)","Guennec Edith",170,2017,"Guennec Edith",337.5,2016]
["-57kg","Master4","Malicot Maryse",92.5,"2019 Potchefstroom(za)","Malicot Maryse",50,2017,"Malicot Maryse",100,2017,"Malicot Maryse",242.5,2017]
["-63kg","Open","Sun Caroline",210,"2023 Druskininkai (Lit)","Anthouard Melodie",147.5,"2022 Birmingham (US)","Sune Caroline",182.5,"2023 Druskininkai (Lit)","Sun Caroline",512.5,"2023 Druskininkai (Lit)"]
["-63kg","Master1","Baali Isabelle",165,2013,"Iliev Isabelle",120,2013,"Iliev Isabelle",170,2013,"Iliev Isabelle",445,2013]
["-63kg","Master2","Descourt Veronique",131,"2021 Blanquefort (F)","Cabos Marie France",95,"2020 Pontoise (Fr)","Descourt Veronique",148,"2021 Blanquefort (F)","Descourt Veronique",369,"2021 Blanquefort (F)"]
["-63kg","Master3","Calves Françoise",115,2017,"Calves Françoise",65,2017,"Calves Françoise",127.5,2017,"Calves Françoise",307.5,2017]
["-63kg","Master4"]
["-69kg","Open"]
["-69kg","Master1"]
["-69kg","Master2","Leccese Florence",147.5,"2023 Pilsen (Cz)","Leccese Florence",92.5,"2023 Pilsen (Cz)","Descours Veronique",145,"2023 Bordeaux (Fr)","Descourt Veronique",372.5,"2023 Bordeaux (Fr)"]
["-69kg","Master3","Blondan Daisy",107.5,"2021 Pilsen (c r)","Blondan Daisy",75,"2021 Pilsen (c r)","Blondan Daisy",135,"2021 Pilsen (c r)","Blondan Daisy",317.5,"2021 Pilsen (c r)"]
["-69kg","Master4"]
["-76kg","Open"]
["-76kg","Master1"]
["-76kg","Master2"]
["-76kg","Master3"]
["-76kg","Master4"]
["-84kg","Open","Chavanis Virginie",180,2014,"Chavanis Virginie",107.5,2014,"Chavanis Virginie",170,2014,"Chavanis Virginie",457.5,2014]
["-84kg","Master1","Maubert Cecile",157.5,2014,"Benlabili Sylvie",80,2018,"Maubert Cecile",165,2014,"Maubert Cecile",402.5,2014]
["-84kg","Master2"]
["-84kg","Master3"]
["-84kg","Master4"]
["+84kg","Open"]
["+84kg","Master1"]
["+84kg","Master2"]
["+84kg","Master3"]
["+84kg","Master4"]

{"sheet":"Records PL_H","index":8,"n_rows":43,"n_cols":14,"rows_kept":43,"cut":false,"hidden":false,"merged":[[1,0,2,1],[1,5,1,7],[1,8,1,10],[1,11,1,13],[0,0,0,13]]}
["Records PL Hommes"]
["Catégorie",null,"Squat",null,null,"Développé-Couché",null,null,"Soulevé de Terre",null,null,"TOTAL"]
[null,null,"Athlète","Poids","Date","Athlète","Poids","Date","Athlète","Poids","Date","Athlète","Poids","Date"]
["-59kg","Open","Lited Etienne",242.5,2011,"Tinebra Frederic",152.5,2012,"Lited Etienne",247.5,2012,"Lited Etienne",632.5,2012]
["-59kg","Master1","Angin Benoit",140,"2019 Potchefstroom(za)","Angin Benoit",90,"2019 Potchefstroom(za)","Angin Benoit",140,"2019 Potchefstroom(za)","Angin Benoit",370,"2019 Potchefstroom(za)"]
["-59kg","Master2","Legard Patrick",205,2013,null,null,null,"Legard Patrick",182.5,2013,"Legard Patrick",470,2013]
["-59kg","Master3","Nivault Marcel",145,2013,null,null,null,"Nivault Marcel",180,2012]
["-59kg","Master4","Nivault Marcel",135.5,2016,null,null,null,"Nivault Marcel",171.5,2016,"Nivault Marcel",353.5,2014]
["-66kg","Open","El Belghitti Hassan",295,2012,"Bernard Michael",195,"2018 Potchefstroom(za)","El Belghitti Hassan",318.5,"2022 Viborg (Den)","El Belghitti Hassan",783.5,"2022 Viborg (den)"]
["-66kg","Master1","El Belghitti Hassan",295,2019,"Bernard Michael",195,"2019 Potchefstroom(za)","El Belghitti Hassan",318.5,"2022 Viborg (Den)","El Belghitti Hassan",783.5,"2022 Viborg (den)"]
["-66kg","Master2","Bernard Michael",217.5,"2020 Pontoise (Fr)","Bernard Michael",190,"2020 Pontoise (Fr)","Jouveaux Franck",235,"2022 La Gorgue (F)","Bernard Michael",602.5,"2020 Pontoise (Fr)"]
["-66kg","Master3","Cuvelier Alain",182.5,2013,"Chenais Jean Jacques",115.5,2014,"Cuvelier Alain",210,2013,"Cuvelier Alain",505,2013]
["-66kg","Master4",null,null,null,null,null,null,"Nivault Marcel",160,2018]
["-74kg","Open","El Belghitti Hassan",320.5,2013,"Poinson Adrien",245,2014,"El Belghiti Hassan",325,2015,"El Belghiti Hassan",808,2013]
["-74kg","Master1","El Belghitti Hassan",305,2016,"Baali Kader",197.5,2014,"El Belghiti Hassan",325,2015,"El Belghiti Hassan",797.5,2015]
["-74kg","Master2","Ruffault Michel",240,2014,"Bernard Michael",200,"2022 Aulnat (Fr)","Ruffault Michel",278,2015,"Ruffault Michel",645.5,2014]
["-74kg","Master3","Couturier Claude",215,2016,"Couturier Claude",137.5,2014,"Vinot Jean Francois",237.5,2011,"Couturier Claude",552.5,2015]
["-74kg","Master4","Couturier Claude",185,"2022 La Gorgue (F)","Couturier Claude",117.5,"2022 La Gorgue (F)","Dufour Gerard",200,"2021 Blanquefort (F)","Couturier Claude",482.5,"2022 La Gorgue (F)"]
["-83kg","Open","Picot Geraud Romain",322.5,2014,"Bertin Fabrice",225,2018,"Picot Geraud Romain",312.5,2014,"Picot Geraud Romain",840,2014]
["-83kg","Master1","Gandner Frederic",300,2013,"Bertin Fabrice",197.5,2014,"Gandner Frederic",295,2014,"Gandner Frederic",785,2014]
["-83kg","Master2","Bertin Fabrice",257.5,2018,"Bertin Fabrice",225,2018,"Carlot Dominique",265,2013,"Bertin Fabrice",688.5,2018]
["-83kg","Master3","Richard Jacques",220,2013,"Naty Michel",145,2019,"Richard Jacques",260,2013,"Richard Jacques",570,2013]
["-83kg","Master4","Vinot Jean Francois",160,"2021 Blanquefort (F)","Dufour Gerard",105,"2022 La Gorgue (F)","Dufour Gerard",180,"2022 La Gorgue (F)","Dufour Gerard",420,"2022 La Gorgue (F)"]
["-93kg","Open","Carole Benoit",330,2014,"Grenier Allan",255,2013,"Pinheiro Gilles",325,2012,"Pinheiro Gilles",875,2014]
["-93kg","Master1","Vaillant Cyril",303,"2020 Pontoise (Fr)","Pires Daniel",220,2015,"Bonnel Olivier",290,2016,"Vaillant Cyril",785,2019]
["-93kg","Master2","Mauchosse Eric",290,2013,"Boughamdouz Gemel",217.5,2017,"Mauchosse Eric",275,2013,"Mauchosse Eric",755,2013]
["-93kg","Master3","Mokadem Boucif",252.5,2011,"Mokadem Boucif",160,2012,"Mokadem Boucif",255,2013,"Mokadem Boucif",665,2012]
["-93kg","Master4"]
["-105kg","Open","Belkesir Sofiane",392.5,2017,"Grenier Allan",315,2019,"Belkesir Sofiane",360,2014,"Belkesir Sofiane",1020,2017]
["-105kg","Master1","Buttigieg Frederic",320,2012,"Buttigieg Frederic",250,2012,"Buttigieg Frederic",290,2012,"Buttigieg Frederic",860,2012]
["-105kg","Master2","Sicoli Adalgiso",312.5,2014,"Leroy Fabrice",235,2017,"Mercier Charly",275.5,"2023 Bordeaux (Fr)","Sicoli Adalgiso",757.5,2014]
["-105kg","Master3","Delpieu Christian",250,2013,"Merlier Pascal",165,2019,"Delpieu Christian",250,2013,"Delpieu Christian",635,2013]
["-105kg","Master4","Buchs Christian",235,2017,"Buchs Christian",125,2017,"Buchs Christian",235,2017,"Buchs Christian",595,2017]
["-120kg","Open","Belkesir Sofiane",427.5,"2023 Druskininkai (Lit)","Grenier Allan",320,"2021 Stavanger (No)","Belkesir Sofiane",365,"2023 Druskininkai (Lit)","Belkesir Sofiane",1090,"2023 Druskininkai (Lit)"]
["-120kg","Master1",null,null,null,"Riviere Patrick",230,2014,"Mlodziakoski David",302.5,2014]
["-120kg","Master2","Hocquard Richard",285.5,2019,"Bar Eric",197.5,"2021 Blanquefort (F)","Hocquard Richard",267.5,2018,"Hocquard Richard",733,2019]
["-120kg","Master3","Sanou Abdoulaye",265,2014,"Merlier Pascal",195,"2020 Pontoise (Fr)","Merlier Pascal",230,"2020 Pontoise (Fr)","Merlier Pascal",665,"2020 Pontoise (Fr)"]
["-120kg","Master4"]
["+120kg","Open","Masarotti Ugo",300,"2020 Pontoise (Fr)","Lejeune Aurelien",295,2013,"Masaroti Ugo ",310.5,"2020 Pontoise (Fr)","Lejeune Aurelien",945,2013]
["+120kg","Master1",null,null,null,"Bar Eric",210,2014,null,null,null,"Paulet Yann",790,2015]
["+120kg","Master2","Chard Tony",235,"2020 Pontoise (Fr)","Chard Tony",215,2018,"Chard Tony",305,2019,"Chard Tony",757.5,2018]
["+120kg","Master3"]
["+120kg","Master4"]

{"sheet":"Aide","index":9,"n_rows":13,"n_cols":6,"rows_kept":13,"cut":false,"hidden":false,"merged":[]}
["Symptome","Message d'erreur","Question ?","Action corrective"]
["Feuille fédération ne se génére pas","Cette action ne marche pas sur de multiples sélections","N'auriez vous pas fusionner des cellules ? Par exemple, le titre de la compétition ?","Défusionner les cellules que vous avez fusionnées"]
["Ordre barre ne fonctionne pas","Selection non valide","Avez-vous bien séléctionné une valeur de barre et non pas le chiffre (1,2 ou 3) en dessous du mouvement","Avez-vous bien séléctionné une valeur de barre et non pas le chiffre (1,2 ou 3) en dessous du mouvement",null,"Enlever la protection: Fichier + Informations + voir ci-dessous"]
["Ordre barre ne fonctionne pas","Cellules fusionnées ..","Avez-vous bien gardé 21 lignes (par exemple 15 athlètes + 6 lignes vides)","Avez-vous bien gardé 21 lignes (par exemple 15 athlètes + 6 lignes) avant d'avoir les lignes des arbitres"]
["La catégorie de poids ne s'affiche pas","Vide","N'avez-vous pas vidé le contenu de la cellule. Toutes les cases grises contiennent une formule","Recopier une cellule de categorie de poids avec la formule encore présente"]
["La catégorie de poids ne s'affiche pas","Vide","La formule est bien là mais rien ne se passe.","Faite \"Entrée\" sur votre clavier ou mieux aller dans l'onglet \"Formule\" de Excel puis options de calcul + automatique"]
["La catégorie d'age ne s'affiche pas","Vide","N'avez-vous pas vidé le contenu de la cellule. Toutes les cases grises contiennent une formule","Recopier une cellule de categorie d'age avec la formule encore présente"]
["La catégorie d'age ne s'affiche pas","Vide","La formule est bien là mais rien ne se passe.","Faite \"Entrée\" sur votre clavier ou mieux aller dans l'onglet \"Formule\" de Excel puis options de calcul + automatique"]
["pour toutes les cellules grisées","Vide","N'avez-vous pas vidé le contenu de la cellule. Toutes les cases grises contiennent une formule","Recopier une cellule identique avec la formule encore présente"]
["pour toutes les cellules grisées","Vide","La formule est bien là mais rien ne se passe.","Faite \"Entrée\" sur votre clavier ou mieux aller dans l'onglet \"Formule\" de Excel puis options de calcul + automatique"]
["Les colonnes avec formules sont protégées","pas de sélection possible","La protection est voulue pour éviter les ecrassements lors des copier/coller des cellules avec formules","Vous pouvez deproteger la feuille FA en allant dans Fichier/Informations/Oter la protection sur FA (pas de mot de passe)"]
["Pas possible d'ajouter ou detruire une ligne","pas de sélection possible","La protection est voulue pour éviter la destruction puis l'ajout de lignes pas au format"]
["Enlever un athlète","pas possible de detruire la ligne","Comment enlever un athlète ? ","2 options: enlever la protection et détruire la ligne ou sélectionner les cellules et avec le menu contextuel \"Effacer le contenu\""]